Welcome to mirrors.dotsrc.org

All our mirrors of open source software are available via http, https, ftp and an onion service. More information about our mirrors including statistics and contact information is available on our mirror info pages.

For information about dotsrc.org and our other services please go to our website.

Index of /bioconductor/checkResults/3.17/bioc-rtools43-LATEST/

File Name  ↓ File Size  ↓ Date  ↓ 
--
-2023-01-02 14:00:09
-2023-01-02 14:00:09
-2023-01-02 14:00:10
-2023-01-02 14:00:10
-2023-01-02 14:00:10
-2023-01-02 14:00:11
-2023-01-02 14:00:11
-2023-01-02 14:00:11
-2023-01-02 14:00:11
-2023-01-02 14:00:11
-2023-01-02 14:00:11
-2023-01-02 14:00:12
-2023-01-02 14:00:12
-2023-01-02 14:00:12
-2023-01-02 14:00:12
-2023-01-02 14:00:13
-2023-01-02 14:00:13
-2023-01-02 14:00:13
-2023-01-02 14:00:14
-2023-01-02 14:00:14
-2023-01-02 14:00:14
-2023-01-02 14:00:14
-2023-01-02 14:00:14
-2023-01-02 14:00:15
-2023-01-02 14:00:15
-2023-01-02 14:00:15
-2023-01-02 14:00:15
-2023-01-02 14:00:16
-2023-01-02 14:00:17
-2023-01-02 14:00:17
-2023-01-02 14:00:17
-2023-01-02 14:00:17
-2023-01-02 14:00:17
-2023-01-02 14:00:17
-2023-01-02 14:00:17
-2023-01-02 14:00:17
-2023-01-02 14:00:17
-2023-01-02 14:00:17
-2023-01-02 14:00:17
-2023-01-02 14:00:17
-2023-01-02 14:00:17
-2023-01-02 14:00:17
-2023-01-02 14:00:17
-2023-01-02 14:00:18
-2023-01-02 14:00:18
-2023-01-02 14:00:18
-2023-01-02 14:00:18
-2023-01-02 14:00:18
-2023-01-02 14:00:18
-2023-01-02 14:00:18
-2023-01-02 14:00:18
-2023-01-02 14:00:18
-2023-01-02 14:00:18
-2023-01-02 14:00:18
-2023-01-02 14:00:18
-2023-01-02 14:00:18
-2023-01-02 14:00:18
-2023-01-02 14:00:18
-2023-01-02 14:00:18
-2023-01-02 14:00:18
-2023-01-02 14:00:18
-2023-01-02 14:00:18
-2023-01-02 14:00:18
-2023-01-02 14:00:18
-2023-01-02 14:00:18
-2023-01-02 14:00:18
-2023-01-02 14:00:18
-2023-01-02 14:00:18
-2023-01-02 14:00:18
-2023-01-02 14:00:18
-2023-01-02 14:00:18
-2023-01-02 14:00:18
-2023-01-02 14:00:18
-2023-01-02 14:00:18
-2023-01-02 14:00:18
-2023-01-02 14:00:18
-2023-01-02 14:00:18
-2023-01-02 14:00:18
-2023-01-02 14:00:18
-2023-01-02 14:00:18
-2023-01-02 14:00:18
-2023-01-02 14:00:18
-2023-01-02 14:00:18
-2023-01-02 14:00:18
-2023-01-02 14:00:18
-2023-01-02 14:00:18
-2023-01-02 14:00:18
-2023-01-02 14:00:18
-2023-01-02 14:00:18
-2023-01-02 14:00:18
-2023-01-02 14:00:18
-2023-01-02 14:00:18
-2023-01-02 14:00:18
-2023-01-02 14:00:18
-2023-01-02 14:00:18
-2023-01-02 14:00:18
-2023-01-02 14:00:18
-2023-01-02 14:00:18
-2023-01-02 14:00:18
-2023-01-02 14:00:18
-2023-01-02 14:00:19
-2023-01-02 14:00:19
-2023-01-02 14:00:19
-2023-01-02 14:00:19
-2023-01-02 14:00:19
-2023-01-02 14:00:19
-2023-01-02 14:00:19
-2023-01-02 14:00:19
-2023-01-02 14:00:19
-2023-01-02 14:00:19
-2023-01-02 14:00:19
-2023-01-02 14:00:19
-2023-01-02 14:00:19
-2023-01-02 14:00:19
-2023-01-02 14:00:19
-2023-01-02 14:00:19
-2023-01-02 14:00:19
-2023-01-02 14:00:19
-2023-01-02 14:00:19
-2023-01-02 14:00:19
-2023-01-02 14:00:19
-2023-01-02 14:00:19
-2023-01-02 14:00:19
-2023-01-02 14:00:19
-2023-01-02 14:00:19
-2023-01-02 14:00:19
-2023-01-02 14:00:19
-2023-01-02 14:00:19
-2023-01-02 14:00:19
-2023-01-02 14:00:19
-2023-01-02 14:00:19
-2023-01-02 14:00:19
-2023-01-02 14:00:19
-2023-01-02 14:00:19
-2023-01-02 14:00:19
-2023-01-02 14:00:19
-2023-01-02 14:00:19
-2023-01-02 14:00:19
-2023-01-02 14:00:19
-2023-01-02 14:00:19
-2023-01-02 14:00:19
-2023-01-02 14:00:19
-2023-01-02 14:00:19
-2023-01-02 14:00:19
-2023-01-02 14:00:19
-2023-01-02 14:00:19
-2023-01-02 14:00:19
-2023-01-02 14:00:19
-2023-01-02 14:00:19
-2023-01-02 14:00:19
-2023-01-02 14:00:19
-2023-01-02 14:00:20
-2023-01-02 14:00:20
-2023-01-02 14:00:20
-2023-01-02 14:00:20
-2023-01-02 14:00:20
-2023-01-02 14:00:20
-2023-01-02 14:00:20
-2023-01-02 14:00:20
-2023-01-02 14:00:20
-2023-01-02 14:00:20
-2023-01-02 14:00:20
-2023-01-02 14:00:20
-2023-01-02 14:00:20
-2023-01-02 14:00:20
-2023-01-02 14:00:20
-2023-01-02 14:00:20
-2023-01-02 14:00:20
-2023-01-02 14:00:20
-2023-01-02 14:00:20
-2023-01-02 14:00:20
-2023-01-02 14:00:20
-2023-01-02 14:00:20
-2023-01-02 14:00:20
-2023-01-02 14:00:20
-2023-01-02 14:00:20
-2023-01-02 14:00:20
-2023-01-02 14:00:20
-2023-01-02 14:00:20
-2023-01-02 14:00:20
-2023-01-02 14:00:20
-2023-01-02 14:00:20
-2023-01-02 14:00:20
-2023-01-02 14:00:20
-2023-01-02 14:00:20
-2023-01-02 14:00:20
-2023-01-02 14:00:20
-2023-01-02 14:00:20
-2023-01-02 14:00:20
-2023-01-02 14:00:20
-2023-01-02 14:00:20
-2023-01-02 14:00:20
-2023-01-02 14:00:20
-2023-01-02 14:00:20
-2023-01-02 14:00:20
-2023-01-02 14:00:20
-2023-01-02 14:00:20
-2023-01-02 14:00:20
-2023-01-02 14:00:20
-2023-01-02 14:00:20
-2023-01-02 14:00:20
-2023-01-02 14:00:20
-2023-01-02 14:00:20
-2023-01-02 14:00:21
-2023-01-02 14:00:21
-2023-01-02 14:00:21
-2023-01-02 14:00:21
-2023-01-02 14:00:21
-2023-01-02 14:00:21
-2023-01-02 14:00:21
-2023-01-02 14:00:21
-2023-01-02 14:00:21
-2023-01-02 14:00:21
-2023-01-02 14:00:21
-2023-01-02 14:00:21
-2023-01-02 14:00:21
-2023-01-02 14:00:21
-2023-01-02 14:00:21
-2023-01-02 14:00:21
-2023-01-02 14:00:21
-2023-01-02 14:00:21
-2023-01-02 14:00:21
-2023-01-02 14:00:21
-2023-01-02 14:00:21
-2023-01-02 14:00:21
-2023-01-02 14:00:21
-2023-01-02 14:00:21
-2023-01-02 14:00:21
-2023-01-02 14:00:21
-2023-01-02 14:00:21
-2023-01-02 14:00:21
-2023-01-02 14:00:21
-2023-01-02 14:00:21
-2023-01-02 14:00:21
-2023-01-02 14:00:21
-2023-01-02 14:00:21
-2023-01-02 14:00:21
-2023-01-02 14:00:21
-2023-01-02 14:00:21
-2023-01-02 14:00:21
-2023-01-02 14:00:21
-2023-01-02 14:00:21
-2023-01-02 14:00:21
-2023-01-02 14:00:21
-2023-01-02 14:00:21
-2023-01-02 14:00:21
-2023-01-02 14:00:21
-2023-01-02 14:00:21
-2023-01-02 14:00:21
-2023-01-02 14:00:21
-2023-01-02 14:00:21
-2023-01-02 14:00:21
-2023-01-02 14:00:21
-2023-01-02 14:00:21
-2023-01-02 14:00:21
-2023-01-02 14:00:21
-2023-01-02 14:00:21
-2023-01-02 14:00:21
-2023-01-02 14:00:21
-2023-01-02 14:00:22
-2023-01-02 14:00:22
-2023-01-02 14:00:22
-2023-01-02 14:00:22
-2023-01-02 14:00:22
-2023-01-02 14:00:22
-2023-01-02 14:00:22
-2023-01-02 14:00:22
-2023-01-02 14:00:22
-2023-01-02 14:00:22
-2023-01-02 14:00:22
-2023-01-02 14:00:22
-2023-01-02 14:00:22
-2023-01-02 14:00:22
-2023-01-02 14:00:22
-2023-01-02 14:00:22
-2023-01-02 14:00:22
-2023-01-02 14:00:22
-2023-01-02 14:00:22
-2023-01-02 14:00:22
-2023-01-02 14:00:22
-2023-01-02 14:00:22
-2023-01-02 14:00:22
-2023-01-02 14:00:22
-2023-01-02 14:00:22
-2023-01-02 14:00:22
-2023-01-02 14:00:22
-2023-01-02 14:00:22
-2023-01-02 14:00:22
-2023-01-02 14:00:22
-2023-01-02 14:00:22
-2023-01-02 14:00:22
-2023-01-02 14:00:22
-2023-01-02 14:00:22
-2023-01-02 14:00:22
-2023-01-02 14:00:22
-2023-01-02 14:00:22
-2023-01-02 14:00:22
-2023-01-02 14:00:22
-2023-01-02 14:00:22
-2023-01-02 14:00:22
-2023-01-02 14:00:22
-2023-01-02 14:00:22
-2023-01-02 14:00:22
-2023-01-02 14:00:22
-2023-01-02 14:00:22
-2023-01-02 14:00:22
-2023-01-02 14:00:22
-2023-01-02 14:00:22
-2023-01-02 14:00:22
-2023-01-02 14:00:22
-2023-01-02 14:00:22
-2023-01-02 14:00:22
-2023-01-02 14:00:22
-2023-01-02 14:00:22
-2023-01-02 14:00:22
-2023-01-02 14:00:22
-2023-01-02 14:00:22
-2023-01-02 14:00:22
-2023-01-02 14:00:22
-2023-01-02 14:00:23
-2023-01-02 14:00:23
-2023-01-02 14:00:23
-2023-01-02 14:00:23
-2023-01-02 14:00:23
-2023-01-02 14:00:23
-2023-01-02 14:00:23
-2023-01-02 14:00:23
-2023-01-02 14:00:23
-2023-01-02 14:00:23
-2023-01-02 14:00:23
-2023-01-02 14:00:23
-2023-01-02 14:00:23
-2023-01-02 14:00:23
-2023-01-02 14:00:23
-2023-01-02 14:00:23
-2023-01-02 14:00:23
-2023-01-02 14:00:23
-2023-01-02 14:00:23
-2023-01-02 14:00:23
-2023-01-02 14:00:23
-2023-01-02 14:00:23
-2023-01-02 14:00:23
-2023-01-02 14:00:23
-2023-01-02 14:00:23
-2023-01-02 14:00:23
-2023-01-02 14:00:23
-2023-01-02 14:00:23
-2023-01-02 14:00:23
-2023-01-02 14:00:23
-2023-01-02 14:00:23
-2023-01-02 14:00:23
-2023-01-02 14:00:23
-2023-01-02 14:00:23
-2023-01-02 14:00:23
-2023-01-02 14:00:23
-2023-01-02 14:00:23
-2023-01-02 14:00:23
-2023-01-02 14:00:23
-2023-01-02 14:00:23
-2023-01-02 14:00:23
-2023-01-02 14:00:23
-2023-01-02 14:00:23
-2023-01-02 14:00:23
-2023-01-02 14:00:23
-2023-01-02 14:00:23
-2023-01-02 14:00:23
-2023-01-02 14:00:23
-2023-01-02 14:00:23
-2023-01-02 14:00:23
-2023-01-02 14:00:23
-2023-01-02 14:00:23
-2023-01-02 14:00:23
-2023-01-02 14:00:23
-2023-01-02 14:00:23
-2023-01-02 14:00:23
-2023-01-02 14:00:23
-2023-01-02 14:00:23
-2023-01-02 14:00:24
-2023-01-02 14:00:24
-2023-01-02 14:00:24
-2023-01-02 14:00:24
-2023-01-02 14:00:24
-2023-01-02 14:00:24
-2023-01-02 14:00:24
-2023-01-02 14:00:24
-2023-01-02 14:00:24
-2023-01-02 14:00:24
-2023-01-02 14:00:24
-2023-01-02 14:00:24
-2023-01-02 14:00:24
-2023-01-02 14:00:24
-2023-01-02 14:00:24
-2023-01-02 14:00:24
-2023-01-02 14:00:24
-2023-01-02 14:00:24
-2023-01-02 14:00:24
-2023-01-02 14:00:24
-2023-01-02 14:00:24
-2023-01-02 14:00:24
-2023-01-02 14:00:24
-2023-01-02 14:00:24
-2023-01-02 14:00:24
-2023-01-02 14:00:24
-2023-01-02 14:00:24
-2023-01-02 14:00:24
-2023-01-02 14:00:24
-2023-01-02 14:00:24
-2023-01-02 14:00:24
-2023-01-02 14:00:24
-2023-01-02 14:00:24
-2023-01-02 14:00:24
-2023-01-02 14:00:24
-2023-01-02 14:00:24
-2023-01-02 14:00:24
-2023-01-02 14:00:24
-2023-01-02 14:00:24
-2023-01-02 14:00:24
-2023-01-02 14:00:24
-2023-01-02 14:00:24
-2023-01-02 14:00:24
-2023-01-02 14:00:24
-2023-01-02 14:00:24
-2023-01-02 14:00:24
-2023-01-02 14:00:24
-2023-01-02 14:00:24
-2023-01-02 14:00:24
-2023-01-02 14:00:24
-2023-01-02 14:00:24
-2023-01-02 14:00:24
-2023-01-02 14:00:24
-2023-01-02 14:00:24
-2023-01-02 14:00:24
-2023-01-02 14:00:24
-2023-01-02 14:00:24
-2023-01-02 14:00:24
-2023-01-02 14:00:24
-2023-01-02 14:00:24
-2023-01-02 14:00:25
-2023-01-02 14:00:25
-2023-01-02 14:00:25
-2023-01-02 14:00:25
-2023-01-02 14:00:25
-2023-01-02 14:00:25
-2023-01-02 14:00:25
-2023-01-02 14:00:25
-2023-01-02 14:00:25
-2023-01-02 14:00:25
-2023-01-02 14:00:25
-2023-01-02 14:00:25
-2023-01-02 14:00:25
-2023-01-02 14:00:25
-2023-01-02 14:00:25
-2023-01-02 14:00:25
-2023-01-02 14:00:25
-2023-01-02 14:00:25
-2023-01-02 14:00:25
-2023-01-02 14:00:25
-2023-01-02 14:00:25
-2023-01-02 14:00:25
-2023-01-02 14:00:25
-2023-01-02 14:00:25
-2023-01-02 14:00:25
-2023-01-02 14:00:25
-2023-01-02 14:00:25
-2023-01-02 14:00:25
-2023-01-02 14:00:25
-2023-01-02 14:00:25
-2023-01-02 14:00:25
-2023-01-02 14:00:25
-2023-01-02 14:00:25
-2023-01-02 14:00:25
-2023-01-02 14:00:25
-2023-01-02 14:00:25
-2023-01-02 14:00:25
-2023-01-02 14:00:25
-2023-01-02 14:00:25
-2023-01-02 14:00:25
-2023-01-02 14:00:25
-2023-01-02 14:00:25
-2023-01-02 14:00:25
-2023-01-02 14:00:25
-2023-01-02 14:00:25
-2023-01-02 14:00:25
-2023-01-02 14:00:25
-2023-01-02 14:00:25
-2023-01-02 14:00:25
-2023-01-02 14:00:25
-2023-01-02 14:00:26
-2023-01-02 14:00:26
-2023-01-02 14:00:26
-2023-01-02 14:00:26
-2023-01-02 14:00:26
-2023-01-02 14:00:26
-2023-01-02 14:00:26
-2023-01-02 14:00:26
-2023-01-02 14:00:26
-2023-01-02 14:00:26
-2023-01-02 14:00:26
-2023-01-02 14:00:26
-2023-01-02 14:00:26
-2023-01-02 14:00:26
-2023-01-02 14:00:26
-2023-01-02 14:00:26
-2023-01-02 14:00:26
-2023-01-02 14:00:26
-2023-01-02 14:00:26
-2023-01-02 14:00:26
-2023-01-02 14:00:26
-2023-01-02 14:00:26
-2023-01-02 14:00:26
-2023-01-02 14:00:26
-2023-01-02 14:00:26
-2023-01-02 14:00:26
-2023-01-02 14:00:26
-2023-01-02 14:00:26
-2023-01-02 14:00:26
-2023-01-02 14:00:26
-2023-01-02 14:00:26
-2023-01-02 14:00:26
-2023-01-02 14:00:26
-2023-01-02 14:00:26
-2023-01-02 14:00:26
-2023-01-02 14:00:26
-2023-01-02 14:00:26
-2023-01-02 14:00:26
-2023-01-02 14:00:26
-2023-01-02 14:00:26
-2023-01-02 14:00:26
-2023-01-02 14:00:26
-2023-01-02 14:00:26
-2023-01-02 14:00:26
-2023-01-02 14:00:26
-2023-01-02 14:00:26
-2023-01-02 14:00:26
-2023-01-02 14:00:26
-2023-01-02 14:00:26
-2023-01-02 14:00:26
-2023-01-02 14:00:26
-2023-01-02 14:00:26
-2023-01-02 14:00:26
-2023-01-02 14:00:26
-2023-01-02 14:00:26
-2023-01-02 14:00:26
-2023-01-02 14:00:26
-2023-01-02 14:00:27
-2023-01-02 14:00:27
-2023-01-02 14:00:27
-2023-01-02 14:00:27
-2023-01-02 14:00:27
-2023-01-02 14:00:27
-2023-01-02 14:00:27
-2023-01-02 14:00:27
-2023-01-02 14:00:27
-2023-01-02 14:00:27
-2023-01-02 14:00:27
-2023-01-02 14:00:27
-2023-01-02 14:00:27
-2023-01-02 14:00:27
-2023-01-02 14:00:27
-2023-01-02 14:00:27
-2023-01-02 14:00:27
-2023-01-02 14:00:27
-2023-01-02 14:00:27
-2023-01-02 14:00:27
-2023-01-02 14:00:27
-2023-01-02 14:00:27
-2023-01-02 14:00:27
-2023-01-02 14:00:27
-2023-01-02 14:00:27
-2023-01-02 14:00:27
-2023-01-02 14:00:27
-2023-01-02 14:00:27
-2023-01-02 14:00:27
-2023-01-02 14:00:27
-2023-01-02 14:00:27
-2023-01-02 14:00:27
-2023-01-02 14:00:27
-2023-01-02 14:00:27
-2023-01-02 14:00:27
-2023-01-02 14:00:27
-2023-01-02 14:00:27
-2023-01-02 14:00:27
-2023-01-02 14:00:27
-2023-01-02 14:00:27
-2023-01-02 14:00:27
-2023-01-02 14:00:27
-2023-01-02 14:00:27
-2023-01-02 14:00:27
-2023-01-02 14:00:27
-2023-01-02 14:00:27
-2023-01-02 14:00:27
-2023-01-02 14:00:27
-2023-01-02 14:00:27
-2023-01-02 14:00:27
-2023-01-02 14:00:27
-2023-01-02 14:00:27
-2023-01-02 14:00:28
-2023-01-02 14:00:28
-2023-01-02 14:00:28
-2023-01-02 14:00:28
-2023-01-02 14:00:28
-2023-01-02 14:00:28
-2023-01-02 14:00:28
-2023-01-02 14:00:28
-2023-01-02 14:00:28
-2023-01-02 14:00:28
-2023-01-02 14:00:28
-2023-01-02 14:00:28
-2023-01-02 14:00:28
-2023-01-02 14:00:28
-2023-01-02 14:00:28
-2023-01-02 14:00:28
-2023-01-02 14:00:28
-2023-01-02 14:00:28
-2023-01-02 14:00:28
-2023-01-02 14:00:28
-2023-01-02 14:00:28
-2023-01-02 14:00:28
-2023-01-02 14:00:28
-2023-01-02 14:00:28
-2023-01-02 14:00:28
-2023-01-02 14:00:28
-2023-01-02 14:00:28
-2023-01-02 14:00:28
-2023-01-02 14:00:28
-2023-01-02 14:00:28
-2023-01-02 14:00:28
-2023-01-02 14:00:28
-2023-01-02 14:00:28
-2023-01-02 14:00:28
-2023-01-02 14:00:28
-2023-01-02 14:00:28
-2023-01-02 14:00:28
-2023-01-02 14:00:28
-2023-01-02 14:00:28
-2023-01-02 14:00:28
-2023-01-02 14:00:28
-2023-01-02 14:00:28
-2023-01-02 14:00:28
-2023-01-02 14:00:28
-2023-01-02 14:00:28
-2023-01-02 14:00:28
-2023-01-02 14:00:28
-2023-01-02 14:00:28
-2023-01-02 14:00:28
-2023-01-02 14:00:28
-2023-01-02 14:00:28
-2023-01-02 14:00:28
-2023-01-02 14:00:28
-2023-01-02 14:00:28
-2023-01-02 14:00:28
-2023-01-02 14:00:28
-2023-01-02 14:00:28
-2023-01-02 14:00:29
-2023-01-02 14:00:29
-2023-01-02 14:00:29
-2023-01-02 14:00:29
-2023-01-02 14:00:29
-2023-01-02 14:00:29
-2023-01-02 14:00:29
-2023-01-02 14:00:29
-2023-01-02 14:00:29
-2023-01-02 14:00:29
-2023-01-02 14:00:29
-2023-01-02 14:00:29
-2023-01-02 14:00:29
-2023-01-02 14:00:29
-2023-01-02 14:00:29
-2023-01-02 14:00:29
-2023-01-02 14:00:29
-2023-01-02 14:00:29
-2023-01-02 14:00:29
-2023-01-02 14:00:29
-2023-01-02 14:00:29
-2023-01-02 14:00:29
-2023-01-02 14:00:29
-2023-01-02 14:00:29
-2023-01-02 14:00:29
-2023-01-02 14:00:29
-2023-01-02 14:00:29
-2023-01-02 14:00:29
-2023-01-02 14:00:29
-2023-01-02 14:00:29
-2023-01-02 14:00:29
-2023-01-02 14:00:29
-2023-01-02 14:00:29
-2023-01-02 14:00:29
-2023-01-02 14:00:29
-2023-01-02 14:00:29
-2023-01-02 14:00:29
-2023-01-02 14:00:29
-2023-01-02 14:00:29
-2023-01-02 14:00:29
-2023-01-02 14:00:29
-2023-01-02 14:00:29
-2023-01-02 14:00:29
-2023-01-02 14:00:29
-2023-01-02 14:00:29
-2023-01-02 14:00:29
-2023-01-02 14:00:29
-2023-01-02 14:00:29
-2023-01-02 14:00:29
-2023-01-02 14:00:29
-2023-01-02 14:00:29
-2023-01-02 14:00:29
-2023-01-02 14:00:29
-2023-01-02 14:00:29
-2023-01-02 14:00:29
-2023-01-02 14:00:29
-2023-01-02 14:00:29
-2023-01-02 14:00:30
-2023-01-02 14:00:30
-2023-01-02 14:00:30
-2023-01-02 14:00:30
-2023-01-02 14:00:30
-2023-01-02 14:00:30
-2023-01-02 14:00:30
-2023-01-02 14:00:30
-2023-01-02 14:00:30
-2023-01-02 14:00:30
-2023-01-02 14:00:30
-2023-01-02 14:00:30
-2023-01-02 14:00:30
-2023-01-02 14:00:30
-2023-01-02 14:00:30
-2023-01-02 14:00:30
-2023-01-02 14:00:30
-2023-01-02 14:00:30
-2023-01-02 14:00:30
-2023-01-02 14:00:30
-2023-01-02 14:00:30
-2023-01-02 14:00:30
-2023-01-02 14:00:30
-2023-01-02 14:00:30
-2023-01-02 14:00:30
-2023-01-02 14:00:30
-2023-01-02 14:00:30
-2023-01-02 14:00:30
-2023-01-02 14:00:30
-2023-01-02 14:00:30
-2023-01-02 14:00:30
-2023-01-02 14:00:30
-2023-01-02 14:00:30
-2023-01-02 14:00:30
-2023-01-02 14:00:30
-2023-01-02 14:00:30
-2023-01-02 14:00:30
-2023-01-02 14:00:30
-2023-01-02 14:00:30
-2023-01-02 14:00:30
-2023-01-02 14:00:30
-2023-01-02 14:00:30
-2023-01-02 14:00:30
-2023-01-02 14:00:30
-2023-01-02 14:00:30
-2023-01-02 14:00:30
-2023-01-02 14:00:30
-2023-01-02 14:00:30
-2023-01-02 14:00:30
-2023-01-02 14:00:30
-2023-01-02 14:00:30
-2023-01-02 14:00:30
-2023-01-02 14:00:30
-2023-01-02 14:00:30
-2023-01-02 14:00:30
-2023-01-02 14:00:30
-2023-01-02 14:00:30
-2023-01-02 14:00:30
-2023-01-02 14:00:30
-2023-01-02 14:00:31
-2023-01-02 14:00:31
-2023-01-02 14:00:31
-2023-01-02 14:00:31
-2023-01-02 14:00:31
-2023-01-02 14:00:31
-2023-01-02 14:00:31
-2023-01-02 14:00:31
-2023-01-02 14:00:31
-2023-01-02 14:00:31
-2023-01-02 14:00:31
-2023-01-02 14:00:31
-2023-01-02 14:00:31
-2023-01-02 14:00:31
-2023-01-02 14:00:31
-2023-01-02 14:00:31
-2023-01-02 14:00:31
-2023-01-02 14:00:31
-2023-01-02 14:00:31
-2023-01-02 14:00:31
-2023-01-02 14:00:31
-2023-01-02 14:00:31
-2023-01-02 14:00:31
-2023-01-02 14:00:31
-2023-01-02 14:00:31
-2023-01-02 14:00:31
-2023-01-02 14:00:31
-2023-01-02 14:00:31
-2023-01-02 14:00:31
-2023-01-02 14:00:31
-2023-01-02 14:00:31
-2023-01-02 14:00:31
-2023-01-02 14:00:31
-2023-01-02 14:00:31
-2023-01-02 14:00:31
-2023-01-02 14:00:31
-2023-01-02 14:00:31
-2023-01-02 14:00:31
-2023-01-02 14:00:31
-2023-01-02 14:00:31
-2023-01-02 14:00:31
-2023-01-02 14:00:31
-2023-01-02 14:00:31
-2023-01-02 14:00:31
-2023-01-02 14:00:31
-2023-01-02 14:00:31
-2023-01-02 14:00:31
-2023-01-02 14:00:31
-2023-01-02 14:00:31
-2023-01-02 14:00:31
-2023-01-02 14:00:31
-2023-01-02 14:00:31
-2023-01-02 14:00:31
-2023-01-02 14:00:32
-2023-01-02 14:00:32
-2023-01-02 14:00:32
-2023-01-02 14:00:32
-2023-01-02 14:00:32
-2023-01-02 14:00:32
-2023-01-02 14:00:32
-2023-01-02 14:00:32
-2023-01-02 14:00:32
-2023-01-02 14:00:32
-2023-01-02 14:00:32
-2023-01-02 14:00:32
-2023-01-02 14:00:32
-2023-01-02 14:00:32
-2023-01-02 14:00:32
-2023-01-02 14:00:32
-2023-01-02 14:00:32
-2023-01-02 14:00:32
-2023-01-02 14:00:32
-2023-01-02 14:00:32
-2023-01-02 14:00:32
-2023-01-02 14:00:32
-2023-01-02 14:00:32
-2023-01-02 14:00:32
-2023-01-02 14:00:32
-2023-01-02 14:00:32
-2023-01-02 14:00:32
-2023-01-02 14:00:32
-2023-01-02 14:00:32
-2023-01-02 14:00:32
-2023-01-02 14:00:32
-2023-01-02 14:00:32
-2023-01-02 14:00:32
-2023-01-02 14:00:32
-2023-01-02 14:00:32
-2023-01-02 14:00:32
-2023-01-02 14:00:32
-2023-01-02 14:00:32
-2023-01-02 14:00:32
-2023-01-02 14:00:32
-2023-01-02 14:00:32
-2023-01-02 14:00:32
-2023-01-02 14:00:32
-2023-01-02 14:00:32
-2023-01-02 14:00:32
-2023-01-02 14:00:32
-2023-01-02 14:00:32
-2023-01-02 14:00:32
-2023-01-02 14:00:32
-2023-01-02 14:00:32
-2023-01-02 14:00:32
-2023-01-02 14:00:32
-2023-01-02 14:00:32
-2023-01-02 14:00:32
-2023-01-02 14:00:32
-2023-01-02 14:00:32
-2023-01-02 14:00:32
-2023-01-02 14:00:32
-2023-01-02 14:00:32
-2023-01-02 14:00:32
-2023-01-02 14:00:33
-2023-01-02 14:00:33
-2023-01-02 14:00:33
-2023-01-02 14:00:33
-2023-01-02 14:00:33
-2023-01-02 14:00:33
-2023-01-02 14:00:33
-2023-01-02 14:00:33
-2023-01-02 14:00:33
-2023-01-02 14:00:33
-2023-01-02 14:00:33
-2023-01-02 14:00:33
-2023-01-02 14:00:33
-2023-01-02 14:00:33
-2023-01-02 14:00:33
-2023-01-02 14:00:33
-2023-01-02 14:00:33
-2023-01-02 14:00:33
-2023-01-02 14:00:33
-2023-01-02 14:00:33
-2023-01-02 14:00:33
-2023-01-02 14:00:33
-2023-01-02 14:00:33
-2023-01-02 14:00:33
-2023-01-02 14:00:33
-2023-01-02 14:00:33
-2023-01-02 14:00:33
-2023-01-02 14:00:33
-2023-01-02 14:00:33
-2023-01-02 14:00:33
-2023-01-02 14:00:33
-2023-01-02 14:00:33
-2023-01-02 14:00:33
-2023-01-02 14:00:33
-2023-01-02 14:00:33
-2023-01-02 14:00:33
-2023-01-02 14:00:33
-2023-01-02 14:00:33
-2023-01-02 14:00:33
-2023-01-02 14:00:33
-2023-01-02 14:00:33
-2023-01-02 14:00:33
-2023-01-02 14:00:33
-2023-01-02 14:00:33
-2023-01-02 14:00:33
-2023-01-02 14:00:33
-2023-01-02 14:00:33
-2023-01-02 14:00:33
-2023-01-02 14:00:33
-2023-01-02 14:00:33
-2023-01-02 14:00:33
-2023-01-02 14:00:33
-2023-01-02 14:00:33
-2023-01-02 14:00:33
-2023-01-02 14:00:34
-2023-01-02 14:00:34
-2023-01-02 14:00:34
-2023-01-02 14:00:34
-2023-01-02 14:00:34
-2023-01-02 14:00:34
-2023-01-02 14:00:34
-2023-01-02 14:00:34
-2023-01-02 14:00:34
-2023-01-02 14:00:34
-2023-01-02 14:00:34
-2023-01-02 14:00:34
-2023-01-02 14:00:34
-2023-01-02 14:00:34
-2023-01-02 14:00:34
-2023-01-02 14:00:34
-2023-01-02 14:00:34
-2023-01-02 14:00:34
-2023-01-02 14:00:34
-2023-01-02 14:00:34
-2023-01-02 14:00:34
-2023-01-02 14:00:34
-2023-01-02 14:00:34
-2023-01-02 14:00:34
-2023-01-02 14:00:34
-2023-01-02 14:00:34
-2023-01-02 14:00:34
-2023-01-02 14:00:34
-2023-01-02 14:00:34
-2023-01-02 14:00:34
-2023-01-02 14:00:34
-2023-01-02 14:00:34
-2023-01-02 14:00:34
-2023-01-02 14:00:34
-2023-01-02 14:00:34
-2023-01-02 14:00:34
-2023-01-02 14:00:34
-2023-01-02 14:00:34
-2023-01-02 14:00:34
-2023-01-02 14:00:35
-2023-01-02 14:00:35
-2023-01-02 14:00:35
-2023-01-02 14:00:35
-2023-01-02 14:00:35
-2023-01-02 14:00:35
-2023-01-02 14:00:35
-2023-01-02 14:00:35
-2023-01-02 14:00:35
-2023-01-02 14:00:35
-2023-01-02 14:00:35
-2023-01-02 14:00:35
-2023-01-02 14:00:35
-2023-01-02 14:00:35
-2023-01-02 14:00:35
-2023-01-02 14:00:35
-2023-01-02 14:00:35
-2023-01-02 14:00:35
-2023-01-02 14:00:35
-2023-01-02 14:00:35
-2023-01-02 14:00:35
-2023-01-02 14:00:35
-2023-01-02 14:00:35
-2023-01-02 14:00:35
-2023-01-02 14:00:35
-2023-01-02 14:00:35
-2023-01-02 14:00:35
-2023-01-02 14:00:35
-2023-01-02 14:00:35
-2023-01-02 14:00:35
-2023-01-02 14:00:35
-2023-01-02 14:00:35
-2023-01-02 14:00:35
-2023-01-02 14:00:35
-2023-01-02 14:00:35
-2023-01-02 14:00:35
-2023-01-02 14:00:35
-2023-01-02 14:00:35
-2023-01-02 14:00:35
-2023-01-02 14:00:35
-2023-01-02 14:00:35
-2023-01-02 14:00:35
-2023-01-02 14:00:35
-2023-01-02 14:00:35
-2023-01-02 14:00:35
-2023-01-02 14:00:35
-2023-01-02 14:00:35
-2023-01-02 14:00:35
-2023-01-02 14:00:35
-2023-01-02 14:00:35
-2023-01-02 14:00:35
-2023-01-02 14:00:35
-2023-01-02 14:00:35
-2023-01-02 14:00:35
-2023-01-02 14:00:35
-2023-01-02 14:00:35
-2023-01-02 14:00:35
-2023-01-02 14:00:35
-2023-01-02 14:00:35
-2023-01-02 14:00:35
-2023-01-02 14:00:36
-2023-01-02 14:00:36
-2023-01-02 14:00:36
-2023-01-02 14:00:36
-2023-01-02 14:00:36
-2023-01-02 14:00:36
-2023-01-02 14:00:36
-2023-01-02 14:00:36
-2023-01-02 14:00:36
-2023-01-02 14:00:36
-2023-01-02 14:00:36
-2023-01-02 14:00:36
-2023-01-02 14:00:36
-2023-01-02 14:00:36
-2023-01-02 14:00:36
-2023-01-02 14:00:36
-2023-01-02 14:00:36
-2023-01-02 14:00:36
-2023-01-02 14:00:36
-2023-01-02 14:00:36
-2023-01-02 14:00:36
-2023-01-02 14:00:36
-2023-01-02 14:00:36
-2023-01-02 14:00:36
-2023-01-02 14:00:36
-2023-01-02 14:00:36
-2023-01-02 14:00:36
-2023-01-02 14:00:36
-2023-01-02 14:00:36
-2023-01-02 14:00:36
-2023-01-02 14:00:36
-2023-01-02 14:00:36
-2023-01-02 14:00:36
-2023-01-02 14:00:36
-2023-01-02 14:00:36
-2023-01-02 14:00:36
-2023-01-02 14:00:36
-2023-01-02 14:00:36
-2023-01-02 14:00:36
-2023-01-02 14:00:36
-2023-01-02 14:00:36
-2023-01-02 14:00:36
-2023-01-02 14:00:36
-2023-01-02 14:00:36
-2023-01-02 14:00:36
-2023-01-02 14:00:36
-2023-01-02 14:00:36
-2023-01-02 14:00:36
-2023-01-02 14:00:36
-2023-01-02 14:00:36
-2023-01-02 14:00:36
-2023-01-02 14:00:36
-2023-01-02 14:00:36
-2023-01-02 14:00:36
-2023-01-02 14:00:36
-2023-01-02 14:00:36
-2023-01-02 14:00:37
-2023-01-02 14:00:37
-2023-01-02 14:00:37
-2023-01-02 14:00:37
-2023-01-02 14:00:37
-2023-01-02 14:00:37
-2023-01-02 14:00:37
-2023-01-02 14:00:37
-2023-01-02 14:00:37
-2023-01-02 14:00:37
-2023-01-02 14:00:37
-2023-01-02 14:00:37
-2023-01-02 14:00:37
-2023-01-02 14:00:37
-2023-01-02 14:00:37
-2023-01-02 14:00:37
-2023-01-02 14:00:37
-2023-01-02 14:00:37
-2023-01-02 14:00:37
-2023-01-02 14:00:37
-2023-01-02 14:00:37
-2023-01-02 14:00:37
-2023-01-02 14:00:37
-2023-01-02 14:00:37
-2023-01-02 14:00:37
-2023-01-02 14:00:37
-2023-01-02 14:00:37
-2023-01-02 14:00:37
-2023-01-02 14:00:37
-2023-01-02 14:00:37
-2023-01-02 14:00:37
-2023-01-02 14:00:37
-2023-01-02 14:00:37
-2023-01-02 14:00:37
-2023-01-02 14:00:37
-2023-01-02 14:00:37
-2023-01-02 14:00:37
-2023-01-02 14:00:37
-2023-01-02 14:00:37
-2023-01-02 14:00:37
-2023-01-02 14:00:37
-2023-01-02 14:00:37
-2023-01-02 14:00:37
-2023-01-02 14:00:37
-2023-01-02 14:00:37
-2023-01-02 14:00:37
-2023-01-02 14:00:37
-2023-01-02 14:00:37
-2023-01-02 14:00:37
-2023-01-02 14:00:37
-2023-01-02 14:00:37
-2023-01-02 14:00:37
-2023-01-02 14:00:37
-2023-01-02 14:00:37
-2023-01-02 14:00:37
-2023-01-02 14:00:37
-2023-01-02 14:00:37
-2023-01-02 14:00:37
-2023-01-02 14:00:38
-2023-01-02 14:00:38
-2023-01-02 14:00:38
-2023-01-02 14:00:38
-2023-01-02 14:00:38
-2023-01-02 14:00:38
-2023-01-02 14:00:38
-2023-01-02 14:00:38
-2023-01-02 14:00:38
-2023-01-02 14:00:38
-2023-01-02 14:00:38
-2023-01-02 14:00:38
-2023-01-02 14:00:38
-2023-01-02 14:00:38
-2023-01-02 14:00:38
-2023-01-02 14:00:38
-2023-01-02 14:00:38
-2023-01-02 14:00:38
-2023-01-02 14:00:38
-2023-01-02 14:00:38
-2023-01-02 14:00:38
-2023-01-02 14:00:38
-2023-01-02 14:00:38
-2023-01-02 14:00:38
-2023-01-02 14:00:38
-2023-01-02 14:00:38
-2023-01-02 14:00:38
-2023-01-02 14:00:38
-2023-01-02 14:00:38
-2023-01-02 14:00:38
-2023-01-02 14:00:38
-2023-01-02 14:00:38
-2023-01-02 14:00:38
-2023-01-02 14:00:38
-2023-01-02 14:00:38
-2023-01-02 14:00:38
-2023-01-02 14:00:38
-2023-01-02 14:00:38
-2023-01-02 14:00:38
-2023-01-02 14:00:38
-2023-01-02 14:00:38
-2023-01-02 14:00:38
-2023-01-02 14:00:38
-2023-01-02 14:00:38
-2023-01-02 14:00:38
-2023-01-02 14:00:38
-2023-01-02 14:00:38
-2023-01-02 14:00:38
-2023-01-02 14:00:38
-2023-01-02 14:00:38
-2023-01-02 14:00:38
-2023-01-02 14:00:38
-2023-01-02 14:00:38
-2023-01-02 14:00:38
-2023-01-02 14:00:38
-2023-01-02 14:00:38
-2023-01-02 14:00:38
-2023-01-02 14:00:38
-2023-01-02 14:00:38
-2023-01-02 14:00:39
-2023-01-02 14:00:39
-2023-01-02 14:00:39
-2023-01-02 14:00:39
-2023-01-02 14:00:39
-2023-01-02 14:00:39
-2023-01-02 14:00:39
-2023-01-02 14:00:39
-2023-01-02 14:00:39
-2023-01-02 14:00:39
-2023-01-02 14:00:39
-2023-01-02 14:00:39
-2023-01-02 14:00:39
-2023-01-02 14:00:39
-2023-01-02 14:00:39
-2023-01-02 14:00:39
-2023-01-02 14:00:39
-2023-01-02 14:00:39
-2023-01-02 14:00:39
-2023-01-02 14:00:39
-2023-01-02 14:00:39
-2023-01-02 14:00:39
-2023-01-02 14:00:39
-2023-01-02 14:00:39
-2023-01-02 14:00:39
-2023-01-02 14:00:39
-2023-01-02 14:00:39
-2023-01-02 14:00:39
-2023-01-02 14:00:39
-2023-01-02 14:00:39
-2023-01-02 14:00:39
-2023-01-02 14:00:39
-2023-01-02 14:00:39
-2023-01-02 14:00:39
-2023-01-02 14:00:39
-2023-01-02 14:00:39
-2023-01-02 14:00:39
-2023-01-02 14:00:39
-2023-01-02 14:00:39
-2023-01-02 14:00:39
-2023-01-02 14:00:39
-2023-01-02 14:00:39
-2023-01-02 14:00:39
-2023-01-02 14:00:39
-2023-01-02 14:00:39
-2023-01-02 14:00:39
-2023-01-02 14:00:39
-2023-01-02 14:00:39
-2023-01-02 14:00:39
-2023-01-02 14:00:39
-2023-01-02 14:00:39
-2023-01-02 14:00:39
-2023-01-02 14:00:39
-2023-01-02 14:00:39
-2023-01-02 14:00:39
-2023-01-02 14:00:39
-2023-01-02 14:00:39
-2023-01-02 14:00:39
-2023-01-02 14:00:40
-2023-01-02 14:00:40
-2023-01-02 14:00:40
-2023-01-02 14:00:40
-2023-01-02 14:00:40
-2023-01-02 14:00:40
-2023-01-02 14:00:40
-2023-01-02 14:00:40
-2023-01-02 14:00:40
-2023-01-02 14:00:40
-2023-01-02 14:00:40
-2023-01-02 14:00:40
-2023-01-02 14:00:40
-2023-01-02 14:00:40
-2023-01-02 14:00:40
-2023-01-02 14:00:40
-2023-01-02 14:00:40
-2023-01-02 14:00:40
-2023-01-02 14:00:40
-2023-01-02 14:00:40
-2023-01-02 14:00:40
-2023-01-02 14:00:40
-2023-01-02 14:00:40
-2023-01-02 14:00:40
-2023-01-02 14:00:40
-2023-01-02 14:00:40
-2023-01-02 14:00:40
-2023-01-02 14:00:40
-2023-01-02 14:00:40
-2023-01-02 14:00:40
-2023-01-02 14:00:40
-2023-01-02 14:00:40
-2023-01-02 14:00:40
-2023-01-02 14:00:40
-2023-01-02 14:00:40
-2023-01-02 14:00:40
-2023-01-02 14:00:40
-2023-01-02 14:00:40
-2023-01-02 14:00:40
-2023-01-02 14:00:40
-2023-01-02 14:00:40
-2023-01-02 14:00:40
-2023-01-02 14:00:40
-2023-01-02 14:00:40
-2023-01-02 14:00:40
-2023-01-02 14:00:40
-2023-01-02 14:00:40
-2023-01-02 14:00:40
-2023-01-02 14:00:40
-2023-01-02 14:00:40
-2023-01-02 14:00:40
-2023-01-02 14:00:40
-2023-01-02 14:00:41
-2023-01-02 14:00:41
-2023-01-02 14:00:41
-2023-01-02 14:00:41
-2023-01-02 14:00:41
-2023-01-02 14:00:41
-2023-01-02 14:00:41
-2023-01-02 14:00:41
-2023-01-02 14:00:41
-2023-01-02 14:00:41
-2023-01-02 14:00:41
-2023-01-02 14:00:41
-2023-01-02 14:00:41
-2023-01-02 14:00:41
-2023-01-02 14:00:41
-2023-01-02 14:00:41
-2023-01-02 14:00:41
-2023-01-02 14:00:41
-2023-01-02 14:00:41
-2023-01-02 14:00:41
-2023-01-02 14:00:41
-2023-01-02 14:00:41
-2023-01-02 14:00:41
-2023-01-02 14:00:41
-2023-01-02 14:00:41
-2023-01-02 14:00:41
-2023-01-02 14:00:41
-2023-01-02 14:00:41
-2023-01-02 14:00:41
-2023-01-02 14:00:41
-2023-01-02 14:00:41
-2023-01-02 14:00:41
-2023-01-02 14:00:41
-2023-01-02 14:00:41
-2023-01-02 14:00:41
-2023-01-02 14:00:41
-2023-01-02 14:00:41
-2023-01-02 14:00:41
-2023-01-02 14:00:41
-2023-01-02 14:00:41
-2023-01-02 14:00:41
-2023-01-02 14:00:41
-2023-01-02 14:00:41
-2023-01-02 14:00:41
-2023-01-02 14:00:41
-2023-01-02 14:00:41
-2023-01-02 14:00:41
-2023-01-02 14:00:41
-2023-01-02 14:00:41
-2023-01-02 14:00:41
-2023-01-02 14:00:41
-2023-01-02 14:00:41
-2023-01-02 14:00:41
-2023-01-02 14:00:41
-2023-01-02 14:00:41
-2023-01-02 14:00:41
-2023-01-02 14:00:41
-2023-01-02 14:00:41
-2023-01-02 14:00:41
-2023-01-02 14:00:41
-2023-01-02 14:00:41
-2023-01-02 14:00:42
-2023-01-02 14:00:42
-2023-01-02 14:00:42
-2023-01-02 14:00:42
-2023-01-02 14:00:42
-2023-01-02 14:00:42
-2023-01-02 14:00:42
-2023-01-02 14:00:42
-2023-01-02 14:00:42
-2023-01-02 14:00:42
-2023-01-02 14:00:42
-2023-01-02 14:00:42
-2023-01-02 14:00:42
-2023-01-02 14:00:42
-2023-01-02 14:00:42
-2023-01-02 14:00:42
-2023-01-02 14:00:42
-2023-01-02 14:00:42
-2023-01-02 14:00:42
-2023-01-02 14:00:42
-2023-01-02 14:00:42
-2023-01-02 14:00:42
-2023-01-02 14:00:42
-2023-01-02 14:00:42
-2023-01-02 14:00:42
-2023-01-02 14:00:42
-2023-01-02 14:00:42
-2023-01-02 14:00:42
-2023-01-02 14:00:42
-2023-01-02 14:00:42
-2023-01-02 14:00:42
-2023-01-02 14:00:42
-2023-01-02 14:00:42
-2023-01-02 14:00:42
-2023-01-02 14:00:42
-2023-01-02 14:00:42
-2023-01-02 14:00:42
-2023-01-02 14:00:42
-2023-01-02 14:00:42
-2023-01-02 14:00:42
-2023-01-02 14:00:42
-2023-01-02 14:00:42
-2023-01-02 14:00:42
-2023-01-02 14:00:42
-2023-01-02 14:00:42
-2023-01-02 14:00:42
-2023-01-02 14:00:42
-2023-01-02 14:00:42
-2023-01-02 14:00:42
-2023-01-02 14:00:42
-2023-01-02 14:00:42
-2023-01-02 14:00:42
-2023-01-02 14:00:42
-2023-01-02 14:00:42
-2023-01-02 14:00:42
-2023-01-02 14:00:42
-2023-01-02 14:00:43
-2023-01-02 14:00:43
-2023-01-02 14:00:43
-2023-01-02 14:00:43
-2023-01-02 14:00:43
-2023-01-02 14:00:43
-2023-01-02 14:00:43
-2023-01-02 14:00:43
-2023-01-02 14:00:43
-2023-01-02 14:00:43
-2023-01-02 14:00:43
-2023-01-02 14:00:43
-2023-01-02 14:00:43
-2023-01-02 14:00:43
-2023-01-02 14:00:43
-2023-01-02 14:00:43
-2023-01-02 14:00:43
-2023-01-02 14:00:43
-2023-01-02 14:00:43
-2023-01-02 14:00:43
-2023-01-02 14:00:43
-2023-01-02 14:00:43
-2023-01-02 14:00:43
-2023-01-02 14:00:43
-2023-01-02 14:00:43
-2023-01-02 14:00:43
-2023-01-02 14:00:43
-2023-01-02 14:00:43
-2023-01-02 14:00:43
-2023-01-02 14:00:43
-2023-01-02 14:00:43
-2023-01-02 14:00:43
-2023-01-02 14:00:43
-2023-01-02 14:00:43
-2023-01-02 14:00:43
-2023-01-02 14:00:43
-2023-01-02 14:00:43
-2023-01-02 14:00:43
-2023-01-02 14:00:43
-2023-01-02 14:00:43
-2023-01-02 14:00:43
-2023-01-02 14:00:43
-2023-01-02 14:00:43
-2023-01-02 14:00:43
-2023-01-02 14:00:43
-2023-01-02 14:00:43
-2023-01-02 14:00:43
-2023-01-02 14:00:43
-2023-01-02 14:00:43
-2023-01-02 14:00:43
-2023-01-02 14:00:43
-2023-01-02 14:00:43
-2023-01-02 14:00:43
-2023-01-02 14:00:43
-2023-01-02 14:00:43
-2023-01-02 14:00:43
-2023-01-02 14:00:43
-2023-01-02 14:00:43
-2023-01-02 14:00:43
-2023-01-02 14:00:43
-2023-01-02 14:00:43
-2023-01-02 14:00:44
-2023-01-02 14:00:44
-2023-01-02 14:00:44
-2023-01-02 14:00:44
-2023-01-02 14:00:44
-2023-01-02 14:00:44
-2023-01-02 14:00:44
-2023-01-02 14:00:44
-2023-01-02 14:00:44
-2023-01-02 14:00:44
-2023-01-02 14:00:44
-2023-01-02 14:00:44
-2023-01-02 14:00:44
-2023-01-02 14:00:44
-2023-01-02 14:00:44
-2023-01-02 14:00:44
-2023-01-02 14:00:44
-2023-01-02 14:00:44
-2023-01-02 14:00:44
-2023-01-02 14:00:44
-2023-01-02 14:00:44
-2023-01-02 14:00:44
-2023-01-02 14:00:44
-2023-01-02 14:00:44
-2023-01-02 14:00:44
-2023-01-02 14:00:44
-2023-01-02 14:00:44
-2023-01-02 14:00:44
-2023-01-02 14:00:44
-2023-01-02 14:00:44
-2023-01-02 14:00:44
-2023-01-02 14:00:44
-2023-01-02 14:00:44
-2023-01-02 14:00:44
-2023-01-02 14:00:44
-2023-01-02 14:00:44
-2023-01-02 14:00:44
-2023-01-02 14:00:44
-2023-01-02 14:00:44
-2023-01-02 14:00:44
-2023-01-02 14:00:44
-2023-01-02 14:00:44
-2023-01-02 14:00:44
-2023-01-02 14:00:44
-2023-01-02 14:00:44
-2023-01-02 14:00:44
-2023-01-02 14:00:44
-2023-01-02 14:00:44
-2023-01-02 14:00:44
-2023-01-02 14:00:44
-2023-01-02 14:00:44
-2023-01-02 14:00:44
-2023-01-02 14:00:44
-2023-01-02 14:00:44
-2023-01-02 14:00:44
-2023-01-02 14:00:45
-2023-01-02 14:00:45
-2023-01-02 14:00:45
-2023-01-02 14:00:45
-2023-01-02 14:00:45
-2023-01-02 14:00:45
-2023-01-02 14:00:45
-2023-01-02 14:00:45
-2023-01-02 14:00:45
-2023-01-02 14:00:45
-2023-01-02 14:00:45
-2023-01-02 14:00:45
-2023-01-02 14:00:45
-2023-01-02 14:00:45
-2023-01-02 14:00:45
-2023-01-02 14:00:45
-2023-01-02 14:00:45
-2023-01-02 14:00:45
-2023-01-02 14:00:45
-2023-01-02 14:00:45
-2023-01-02 14:00:45
-2023-01-02 14:00:45
-2023-01-02 14:00:45
-2023-01-02 14:00:45
-2023-01-02 14:00:45
-2023-01-02 14:00:45
-2023-01-02 14:00:45
-2023-01-02 14:00:45
-2023-01-02 14:00:45
-2023-01-02 14:00:45
-2023-01-02 14:00:45
-2023-01-02 14:00:45
-2023-01-02 14:00:45
-2023-01-02 14:00:45
-2023-01-02 14:00:45
-2023-01-02 14:00:45
-2023-01-02 14:00:45
-2023-01-02 14:00:45
-2023-01-02 14:00:46
-2023-01-02 14:00:46
-2023-01-02 14:00:46
-2023-01-02 14:00:46
-2023-01-02 14:00:46
-2023-01-02 14:00:46
-2023-01-02 14:00:46
-2023-01-02 14:00:46
-2023-01-02 14:00:46
-2023-01-02 14:00:46
-2023-01-02 14:00:46
-2023-01-02 14:00:46
-2023-01-02 14:00:46
-2023-01-02 14:00:46
-2023-01-02 14:00:46
-2023-01-02 14:00:46
-2023-01-02 14:00:46
-2023-01-02 14:00:46
-2023-01-02 14:00:46
-2023-01-02 14:00:46
-2023-01-02 14:00:46
-2023-01-02 14:00:46
-2023-01-02 14:00:46
-2023-01-02 14:00:46
-2023-01-02 14:00:46
-2023-01-02 14:00:46
-2023-01-02 14:00:46
-2023-01-02 14:00:46
-2023-01-02 14:00:46
-2023-01-02 14:00:46
-2023-01-02 14:00:46
-2023-01-02 14:00:46
-2023-01-02 14:00:46
-2023-01-02 14:00:46
-2023-01-02 14:00:46
-2023-01-02 14:00:46
-2023-01-02 14:00:46
-2023-01-02 14:00:46
-2023-01-02 14:00:46
-2023-01-02 14:00:47
-2023-01-02 14:00:47
-2023-01-02 14:00:47
-2023-01-02 14:00:47
-2023-01-02 14:00:47
-2023-01-02 14:00:47
-2023-01-02 14:00:47
-2023-01-02 14:00:47
-2023-01-02 14:00:47
-2023-01-02 14:00:47
-2023-01-02 14:00:47
-2023-01-02 14:00:47
-2023-01-02 14:00:47
-2023-01-02 14:00:47
-2023-01-02 14:00:47
-2023-01-02 14:00:47
-2023-01-02 14:00:47
-2023-01-02 14:00:47
-2023-01-02 14:00:47
-2023-01-02 14:00:47
-2023-01-02 14:00:47
-2023-01-02 14:00:47
-2023-01-02 14:00:47
-2023-01-02 14:00:47
-2023-01-02 14:00:47
-2023-01-02 14:00:47
-2023-01-02 14:00:47
-2023-01-02 14:00:47
-2023-01-02 14:00:47
-2023-01-02 14:00:47
-2023-01-02 14:00:47
-2023-01-02 14:00:47
-2023-01-02 14:00:47
-2023-01-02 14:00:47
-2023-01-02 14:00:47
-2023-01-02 14:00:47
-2023-01-02 14:00:47
-2023-01-02 14:00:47
-2023-01-02 14:00:47
-2023-01-02 14:00:47
-2023-01-02 14:00:47
-2023-01-02 14:00:47
-2023-01-02 14:00:47
-2023-01-02 14:00:47
-2023-01-02 14:00:47
-2023-01-02 14:00:47
-2023-01-02 14:00:47
-2023-01-02 14:00:47
-2023-01-02 14:00:47
-2023-01-02 14:00:47
-2023-01-02 14:00:47
-2023-01-02 14:00:47
-2023-01-02 14:00:47
-2023-01-02 14:00:47
-2023-01-02 14:00:47
-2023-01-02 14:00:47
-2023-01-02 14:00:47
-2023-01-02 14:00:47
-2023-01-02 14:00:48
-2023-01-02 14:00:48
-2023-01-02 14:00:48
-2023-01-02 14:00:48
-2023-01-02 14:00:48
-2023-01-02 14:00:48
-2023-01-02 14:00:48
-2023-01-02 14:00:48
-2023-01-02 14:00:48
-2023-01-02 14:00:48
-2023-01-02 14:00:48
-2023-01-02 14:00:48
-2023-01-02 14:00:48
-2023-01-02 14:00:48
-2023-01-02 14:00:48
-2023-01-02 14:00:48
-2023-01-02 14:00:48
-2023-01-02 14:00:48
-2023-01-02 14:00:48
-2023-01-02 14:00:48
-2023-01-02 14:00:48
-2023-01-02 14:00:48
-2023-01-02 14:00:48
-2023-01-02 14:00:48
-2023-01-02 14:00:48
-2023-01-02 14:00:48
-2023-01-02 14:00:48
-2023-01-02 14:00:48
-2023-01-02 14:00:48
-2023-01-02 14:00:48
-2023-01-02 14:00:48
-2023-01-02 14:00:48
-2023-01-02 14:00:48
-2023-01-02 14:00:48
-2023-01-02 14:00:48
-2023-01-02 14:00:48
-2023-01-02 14:00:48
-2023-01-02 14:00:48
-2023-01-02 14:00:48
-2023-01-02 14:00:48
-2023-01-02 14:00:48
-2023-01-02 14:00:48
-2023-01-02 14:00:48
-2023-01-02 14:00:48
-2023-01-02 14:00:48
-2023-01-02 14:00:48
-2023-01-02 14:00:48
-2023-01-02 14:00:48
-2023-01-02 14:00:48
-2023-01-02 14:00:48
-2023-01-02 14:00:48
-2023-01-02 14:00:48
-2023-01-02 14:00:48
-2023-01-02 14:00:48
-2023-01-02 14:00:48
-2023-01-02 14:00:48
-2023-01-02 14:00:49
-2023-01-02 14:00:49
-2023-01-02 14:00:49
-2023-01-02 14:00:49
-2023-01-02 14:00:49
-2023-01-02 14:00:49
-2023-01-02 14:00:49
-2023-01-02 14:00:49
-2023-01-02 14:00:49
-2023-01-02 14:00:49
-2023-01-02 14:00:49
-2023-01-02 14:00:49
-2023-01-02 14:00:49
-2023-01-02 14:00:49
-2023-01-02 14:00:49
-2023-01-02 14:00:49
-2023-01-02 14:00:49
-2023-01-02 14:00:49
-2023-01-02 14:00:49
-2023-01-02 14:00:49
-2023-01-02 14:00:49
-2023-01-02 14:00:49
-2023-01-02 14:00:49
-2023-01-02 14:00:49
-2023-01-02 14:00:49
-2023-01-02 14:00:49
-2023-01-02 14:00:49
-2023-01-02 14:00:49
-2023-01-02 14:00:49
-2023-01-02 14:00:49
-2023-01-02 14:00:49
-2023-01-02 14:00:49
-2023-01-02 14:00:49
-2023-01-02 14:00:49
-2023-01-02 14:00:49
-2023-01-02 14:00:49
-2023-01-02 14:00:49
-2023-01-02 14:00:49
-2023-01-02 14:00:49
-2023-01-02 14:00:49
-2023-01-02 14:00:49
-2023-01-02 14:00:49
-2023-01-02 14:00:49
-2023-01-02 14:00:49
-2023-01-02 14:00:49
-2023-01-02 14:00:50
-2023-01-02 14:00:50
-2023-01-02 14:00:50
-2023-01-02 14:00:50
-2023-01-02 14:00:50
-2023-01-02 14:00:50
-2023-01-02 14:00:50
-2023-01-02 14:00:50
-2023-01-02 14:00:50
-2023-01-02 14:00:50
-2023-01-02 14:00:50
-2023-01-02 14:00:50
-2023-01-02 14:00:50
-2023-01-02 14:00:50
-2023-01-02 14:00:50
-2023-01-02 14:00:50
-2023-01-02 14:00:50
-2023-01-02 14:00:50
-2023-01-02 14:00:50
-2023-01-02 14:00:50
-2023-01-02 14:00:50
-2023-01-02 14:00:50
-2023-01-02 14:00:50
-2023-01-02 14:00:50
-2023-01-02 14:00:50
-2023-01-02 14:00:50
-2023-01-02 14:00:50
-2023-01-02 14:00:50
-2023-01-02 14:00:50
-2023-01-02 14:00:50
-2023-01-02 14:00:50
-2023-01-02 14:00:50
-2023-01-02 14:00:50
-2023-01-02 14:00:50
-2023-01-02 14:00:50
-2023-01-02 14:00:50
-2023-01-02 14:00:50
-2023-01-02 14:00:50
-2023-01-02 14:00:50
-2023-01-02 14:00:50
-2023-01-02 14:00:50
-2023-01-02 14:00:50
-2023-01-02 14:00:50
-2023-01-02 14:00:50
-2023-01-02 14:00:50
-2023-01-02 14:00:50
-2023-01-02 14:00:50
-2023-01-02 14:00:50
-2023-01-02 14:00:50
-2023-01-02 14:00:51
-2023-01-02 14:00:51
-2023-01-02 14:00:51
-2023-01-02 14:00:51
-2023-01-02 14:00:51
-2023-01-02 14:00:51
-2023-01-02 14:00:51
-2023-01-02 14:00:51
-2023-01-02 14:00:51
-2023-01-02 14:00:51
-2023-01-02 14:00:51
-2023-01-02 14:00:51
-2023-01-02 14:00:51
-2023-01-02 14:00:51
-2023-01-02 14:00:51
-2023-01-02 14:00:51
-2023-01-02 14:00:51
-2023-01-02 14:00:51
-2023-01-02 14:00:51
-2023-01-02 14:00:51
-2023-01-02 14:00:51
-2023-01-02 14:00:51
-2023-01-02 14:00:51
-2023-01-02 14:00:51
-2023-01-02 14:00:51
-2023-01-02 14:00:51
-2023-01-02 14:00:51
-2023-01-02 14:00:51
-2023-01-02 14:00:51
-2023-01-02 14:00:51
-2023-01-02 14:00:51
-2023-01-02 14:00:51
-2023-01-02 14:00:51
-2023-01-02 14:00:51
-2023-01-02 14:00:51
-2023-01-02 14:00:51
-2023-01-02 14:00:51
-2023-01-02 14:00:51
-2023-01-02 14:00:51
-2023-01-02 14:00:51
-2023-01-02 14:00:51
-2023-01-02 14:00:51
-2023-01-02 14:00:51
-2023-01-02 14:00:51
-2023-01-02 14:00:51
-2023-01-02 14:00:51
-2023-01-02 14:00:51
-2023-01-02 14:00:51
-2023-01-02 14:00:51
-2023-01-02 14:00:51
-2023-01-02 14:00:51
-2023-01-02 14:00:51
-2023-01-02 14:00:51
-2023-01-02 14:00:51
-2023-01-02 14:00:51
-2023-01-02 14:00:51
-2023-01-02 14:00:51
-2023-01-02 14:00:51
-2023-01-02 14:00:51
-2023-01-02 14:00:52
-2023-01-02 14:00:52
-2023-01-02 14:00:52
-2023-01-02 14:00:52
-2023-01-02 14:00:52
-2023-01-02 14:00:52
-2023-01-02 14:00:52
-2023-01-02 14:00:52
-2023-01-02 14:00:52
-2023-01-02 14:00:52
-2023-01-02 14:00:52
-2023-01-02 14:00:52
-2023-01-02 14:00:52
-2023-01-02 14:00:52
-2023-01-02 14:00:52
-2023-01-02 14:00:52
-2023-01-02 14:00:52
-2023-01-02 14:00:52
-2023-01-02 14:00:52
-2023-01-02 14:00:52
-2023-01-02 14:00:52
-2023-01-02 14:00:52
-2023-01-02 14:00:52
-2023-01-02 14:00:52
-2023-01-02 14:00:52
-2023-01-02 14:00:52
-2023-01-02 14:00:52
-2023-01-02 14:00:52
-2023-01-02 14:00:52
-2023-01-02 14:00:52
-2023-01-02 14:00:52
-2023-01-02 14:00:52
-2023-01-02 14:00:52
-2023-01-02 14:00:52
-2023-01-02 14:00:52
-2023-01-02 14:00:52
-2023-01-02 14:00:52
-2023-01-02 14:00:52
-2023-01-02 14:00:52
-2023-01-02 14:00:52
-2023-01-02 14:00:52
-2023-01-02 14:00:52
-2023-01-02 14:00:52
-2023-01-02 14:00:52
-2023-01-02 14:00:52
-2023-01-02 14:00:52
-2023-01-02 14:00:52
-2023-01-02 14:00:52
-2023-01-02 14:00:52
-2023-01-02 14:00:52
-2023-01-02 14:00:52
-2023-01-02 14:00:52
-2023-01-02 14:00:52
-2023-01-02 14:00:52
-2023-01-02 14:00:52
-2023-01-02 14:00:52
-2023-01-02 14:00:53
-2023-01-02 14:00:53
-2023-01-02 14:00:53
-2023-01-02 14:00:53
-2023-01-02 14:00:53
-2023-01-02 14:00:53
-2023-01-02 14:00:53
-2023-01-02 14:00:53
-2023-01-02 14:00:53
-2023-01-02 14:00:53
-2023-01-02 14:00:53
-2023-01-02 14:00:53
-2023-01-02 14:00:53
-2023-01-02 14:00:53
-2023-01-02 14:00:53
-2023-01-02 14:00:53
-2023-01-02 14:00:53
-2023-01-02 14:00:53
-2023-01-02 14:00:53
-2023-01-02 14:00:53
-2023-01-02 14:00:53
-2023-01-02 14:00:53
-2023-01-02 14:00:53
-2023-01-02 14:00:53
-2023-01-02 14:00:53
-2023-01-02 14:00:53
-2023-01-02 14:00:53
-2023-01-02 14:00:53
-2023-01-02 14:00:53
-2023-01-02 14:00:53
-2023-01-02 14:00:53
-2023-01-02 14:00:53
-2023-01-02 14:00:53
-2023-01-02 14:00:53
-2023-01-02 14:00:53
-2023-01-02 14:00:53
-2023-01-02 14:00:53
-2023-01-02 14:00:53
-2023-01-02 14:00:53
-2023-01-02 14:00:53
-2023-01-02 14:00:53
-2023-01-02 14:00:53
-2023-01-02 14:00:53
-2023-01-02 14:00:53
-2023-01-02 14:00:53
-2023-01-02 14:00:53
-2023-01-02 14:00:53
-2023-01-02 14:00:53
-2023-01-02 14:00:53
-2023-01-02 14:00:53
-2023-01-02 14:00:53
-2023-01-02 14:00:53
-2023-01-02 14:00:53
-2023-01-02 14:00:53
-2023-01-02 14:00:53
-2023-01-02 14:00:53
-2023-01-02 14:00:53
-2023-01-02 14:00:53
-2023-01-02 14:00:53
-2023-01-02 14:00:54
-2023-01-02 14:00:54
-2023-01-02 14:00:54
-2023-01-02 14:00:54
-2023-01-02 14:00:54
-2023-01-02 14:00:54
-2023-01-02 14:00:54
-2023-01-02 14:00:54
-2023-01-02 14:00:54
-2023-01-02 14:00:54
-2023-01-02 14:00:54
-2023-01-02 14:00:54
-2023-01-02 14:00:54
-2023-01-02 14:00:54
-2023-01-02 14:00:54
-2023-01-02 14:00:54
-2023-01-02 14:00:54
-2023-01-02 14:00:54
-2023-01-02 14:00:54
-2023-01-02 14:00:54
-2023-01-02 14:00:54
-2023-01-02 14:00:54
-2023-01-02 14:00:54
-2023-01-02 14:00:54
-2023-01-02 14:00:54
-2023-01-02 14:00:54
-2023-01-02 14:00:54
-2023-01-02 14:00:54
-2023-01-02 14:00:54
-2023-01-02 14:00:54
-2023-01-02 14:00:54
-2023-01-02 14:00:54
-2023-01-02 14:00:54
-2023-01-02 14:00:54
-2023-01-02 14:00:54
-2023-01-02 14:00:54
-2023-01-02 14:00:54
-2023-01-02 14:00:54
-2023-01-02 14:00:54
-2023-01-02 14:00:54
-2023-01-02 14:00:54
-2023-01-02 14:00:54
-2023-01-02 14:00:54
-2023-01-02 14:00:54
-2023-01-02 14:00:54
-2023-01-02 14:00:54
-2023-01-02 14:00:54
-2023-01-02 14:00:54
-2023-01-02 14:00:54
-2023-01-02 14:00:54
-2023-01-02 14:00:54
-2023-01-02 14:00:54
-2023-01-02 14:00:54
-2023-01-02 14:00:54
-2023-01-02 14:00:54
-2023-01-02 14:00:54
-2023-01-02 14:00:54
-2023-01-02 14:00:54
-2023-01-02 14:00:55
-2023-01-02 14:00:55
-2023-01-02 14:00:55
-2023-01-02 14:00:55
-2023-01-02 14:00:55
-2023-01-02 14:00:55
-2023-01-02 14:00:55
-2023-01-02 14:00:55
-2023-01-02 14:00:55
-2023-01-02 14:00:55
-2023-01-02 14:00:55
-2023-01-02 14:00:55
-2023-01-02 14:00:55
-2023-01-02 14:00:55
-2023-01-02 14:00:55
-2023-01-02 14:00:55
-2023-01-02 14:00:55
-2023-01-02 14:00:55
-2023-01-02 14:00:55
-2023-01-02 14:00:55
-2023-01-02 14:00:55
-2023-01-02 14:00:55
-2023-01-02 14:00:55
-2023-01-02 14:00:55
-2023-01-02 14:00:55
-2023-01-02 14:00:55
-2023-01-02 14:00:55
-2023-01-02 14:00:55
-2023-01-02 14:00:55
-2023-01-02 14:00:55
-2023-01-02 14:00:55
-2023-01-02 14:00:55
-2023-01-02 14:00:55
-2023-01-02 14:00:55
-2023-01-02 14:00:55
-2023-01-02 14:00:55
-2023-01-02 14:00:55
-2023-01-02 14:00:55
-2023-01-02 14:00:55
-2023-01-02 14:00:55
-2023-01-02 14:00:55
-2023-01-02 14:00:55
-2023-01-02 14:00:55
-2023-01-02 14:00:55
-2023-01-02 14:00:55
-2023-01-02 14:00:55
-2023-01-02 14:00:55
-2023-01-02 14:00:55
-2023-01-02 14:00:55
-2023-01-02 14:00:55
-2023-01-02 14:00:55
-2023-01-02 14:00:55
-2023-01-02 14:00:55
-2023-01-02 14:00:55
-2023-01-02 14:00:55
-2023-01-02 14:00:55
-2023-01-02 14:00:55
-2023-01-02 14:00:55
-2023-01-02 14:00:55
-2023-01-02 14:00:56
-2023-01-02 14:00:56
-2023-01-02 14:00:56
-2023-01-02 14:00:56
-2023-01-02 14:00:56
-2023-01-02 14:00:56
-2023-01-02 14:00:56
-2023-01-02 14:00:56
-2023-01-02 14:00:56
-2023-01-02 14:00:56
-2023-01-02 14:00:56
-2023-01-02 14:00:56
-2023-01-02 14:00:56
-2023-01-02 14:00:56
-2023-01-02 14:00:56
-2023-01-02 14:00:56
-2023-01-02 14:00:56
-2023-01-02 14:00:56
-2023-01-02 14:00:56
-2023-01-02 14:00:56
-2023-01-02 14:00:56
-2023-01-02 14:00:56
-2023-01-02 14:00:56
-2023-01-02 14:00:56
-2023-01-02 14:00:56
-2023-01-02 14:00:56
-2023-01-02 14:00:56
-2023-01-02 14:00:56
-2023-01-02 14:00:56
-2023-01-02 14:00:56
-2023-01-02 14:00:56
10.2 KiB2023-01-02 14:00:09
2.6 KiB2023-01-02 14:00:09
6.0 KiB2023-01-02 14:00:09
7.1 KiB2023-01-02 14:00:09
7.1 KiB2023-01-02 14:00:09
222.5 KiB2023-01-02 14:00:09
269.8 KiB2023-01-02 14:00:09
2.2 KiB2023-01-02 14:00:09
16 B2023-01-02 14:00:09
7.0 KiB2023-01-02 14:00:09
428.0 KiB2023-01-02 14:00:56
1.2 MiB2023-01-02 14:00:56
2.8 MiB2023-01-02 14:00:56
6.1 KiB2023-01-02 14:00:56
22.2 MiB2023-01-02 14:01:02