Back to Multiple platform build/check report for BioC 3.17
ABC[D]EFGHIJKLMNOPQRSTUVWXYZ

This page was generated on 2023-01-10 11:07:30 -0500 (Tue, 10 Jan 2023).

HostnameOSArch (*)R versionInstalled pkgs
nebbiolo1Linux (Ubuntu 22.04.1 LTS)x86_64R Under development (unstable) (2022-12-10 r83428) -- "Unsuffered Consequences" 4463
palomino3Windows Server 2022 Datacenterx64R Under development (unstable) (2022-12-10 r83428 ucrt) -- "Unsuffered Consequences" 4244
merida1macOS 10.14.6 Mojavex86_64R Under development (unstable) (2022-12-10 r83428) -- "Unsuffered Consequences" 4255
Click on any hostname to see more info about the system (e.g. compilers)      (*) as reported by 'uname -p', except on Windows and Mac OS X

BUILD BIN results for dasper on palomino3


To the developers/maintainers of the dasper package:
- Please allow up to 24 hours (and sometimes 48 hours) for your latest push to git@git.bioconductor.org:packages/dasper.git to
reflect on this report. See How and When does the builder pull? When will my changes propagate? for more information.
- Make sure to use the following settings in order to reproduce any error or warning you see on this page.

raw results

Package 468/2160HostnameOS / ArchINSTALLBUILDCHECKBUILD BIN
dasper 1.9.0  (landing page)
David Zhang
Snapshot Date: 2023-01-09 14:00:21 -0500 (Mon, 09 Jan 2023)
git_url: https://git.bioconductor.org/packages/dasper
git_branch: master
git_last_commit: 7fc89b3
git_last_commit_date: 2022-11-01 11:23:22 -0500 (Tue, 01 Nov 2022)
nebbiolo1Linux (Ubuntu 22.04.1 LTS) / x86_64  OK    OK    ERROR  
palomino3Windows Server 2022 Datacenter / x64  OK    OK    ERROR    OK  
merida1macOS 10.14.6 Mojave / x86_64  OK    OK    ERROR    OK  

Summary

Package: dasper
Version: 1.9.0
Command: rm -rf dasper.buildbin-libdir && mkdir dasper.buildbin-libdir && F:\biocbuild\bbs-3.17-bioc\R\bin\R.exe CMD INSTALL --build --library=dasper.buildbin-libdir dasper_1.9.0.tar.gz
StartedAt: 2023-01-10 08:29:38 -0500 (Tue, 10 Jan 2023)
EndedAt: 2023-01-10 08:30:03 -0500 (Tue, 10 Jan 2023)
EllapsedTime: 25.1 seconds
RetCode: 0
Status:   OK  
PackageFile: dasper_1.9.0.zip
PackageFileSize: 1.57 MiB

Command output

##############################################################################
##############################################################################
###
### Running command:
###
###   rm -rf dasper.buildbin-libdir && mkdir dasper.buildbin-libdir && F:\biocbuild\bbs-3.17-bioc\R\bin\R.exe CMD INSTALL --build --library=dasper.buildbin-libdir dasper_1.9.0.tar.gz
###
##############################################################################
##############################################################################


* installing *source* package 'dasper' ...
** using non-staged installation via StagedInstall field
** R
** data
*** moving datasets to lazyload DB
** inst
** byte-compile and prepare package for lazy loading
** help
*** installing help indices
** building package indices
** installing vignettes
** testing if installed package can be loaded
* MD5 sums
packaged installation of 'dasper' as dasper_1.9.0.zip
* DONE (dasper)