Back to Multiple platform build/check report for BioC 3.17: simplified long |
|
This page was generated on 2023-02-09 11:05:46 -0500 (Thu, 09 Feb 2023).
Hostname | OS | Arch (*) | R version | Installed pkgs |
---|---|---|---|---|
nebbiolo1 | Linux (Ubuntu 22.04.1 LTS) | x86_64 | R Under development (unstable) (2023-01-10 r83596) -- "Unsuffered Consequences" | 4485 |
palomino3 | Windows Server 2022 Datacenter | x64 | R Under development (unstable) (2023-01-10 r83596 ucrt) -- "Unsuffered Consequences" | 4251 |
merida1 | macOS 10.14.6 Mojave | x86_64 | R Under development (unstable) (2023-01-10 r83596) -- "Unsuffered Consequences" | 4275 |
Click on any hostname to see more info about the system (e.g. compilers) (*) as reported by 'uname -p', except on Windows and Mac OS X |
To the developers/maintainers of the BioMM package: - Please allow up to 24 hours (and sometimes 48 hours) for your latest push to git@git.bioconductor.org:packages/BioMM.git to reflect on this report. See How and When does the builder pull? When will my changes propagate? for more information. - Make sure to use the following settings in order to reproduce any error or warning you see on this page. |
Package 191/2164 | Hostname | OS / Arch | INSTALL | BUILD | CHECK | BUILD BIN | ||||||||
BioMM 1.15.0 (landing page) Junfang Chen
| nebbiolo1 | Linux (Ubuntu 22.04.1 LTS) / x86_64 | OK | OK | OK | ![]() | ||||||||
palomino3 | Windows Server 2022 Datacenter / x64 | OK | OK | OK | OK | ![]() | ||||||||
merida1 | macOS 10.14.6 Mojave / x86_64 | OK | OK | OK | OK | ![]() | ||||||||
Package: BioMM |
Version: 1.15.0 |
Command: rm -rf BioMM.buildbin-libdir && mkdir BioMM.buildbin-libdir && F:\biocbuild\bbs-3.17-bioc\R\bin\R.exe CMD INSTALL --build --library=BioMM.buildbin-libdir BioMM_1.15.0.tar.gz |
StartedAt: 2023-02-09 07:39:27 -0500 (Thu, 09 Feb 2023) |
EndedAt: 2023-02-09 07:39:45 -0500 (Thu, 09 Feb 2023) |
EllapsedTime: 17.5 seconds |
RetCode: 0 |
Status: OK |
PackageFile: BioMM_1.15.0.zip |
PackageFileSize: 2.916 MiB |
############################################################################## ############################################################################## ### ### Running command: ### ### rm -rf BioMM.buildbin-libdir && mkdir BioMM.buildbin-libdir && F:\biocbuild\bbs-3.17-bioc\R\bin\R.exe CMD INSTALL --build --library=BioMM.buildbin-libdir BioMM_1.15.0.tar.gz ### ############################################################################## ############################################################################## * installing *source* package 'BioMM' ... ** using staged installation ** R ** inst ** byte-compile and prepare package for lazy loading ** help *** installing help indices ** building package indices ** installing vignettes ** testing if installed package can be loaded from temporary location ** testing if installed package can be loaded from final location ** testing if installed package keeps a record of temporary installation path * MD5 sums packaged installation of 'BioMM' as BioMM_1.15.0.zip * DONE (BioMM)