Back to Multiple platform build/check report for BioC 3.15 |
|
This page was generated on 2022-10-19 13:20:35 -0400 (Wed, 19 Oct 2022).
Hostname | OS | Arch (*) | R version | Installed pkgs |
---|---|---|---|---|
nebbiolo1 | Linux (Ubuntu 20.04.5 LTS) | x86_64 | 4.2.1 (2022-06-23) -- "Funny-Looking Kid" | 4386 |
palomino3 | Windows Server 2022 Datacenter | x64 | 4.2.1 (2022-06-23 ucrt) -- "Funny-Looking Kid" | 4138 |
merida1 | macOS 10.14.6 Mojave | x86_64 | 4.2.1 (2022-06-23) -- "Funny-Looking Kid" | 4205 |
Click on any hostname to see more info about the system (e.g. compilers) (*) as reported by 'uname -p', except on Windows and Mac OS X |
To the developers/maintainers of the muscat package: - Please allow up to 24 hours (and sometimes 48 hours) for your latest push to git@git.bioconductor.org:packages/muscat.git to reflect on this report. See How and When does the builder pull? When will my changes propagate? for more information. - Make sure to use the following settings in order to reproduce any error or warning you see on this page. |
Package 1285/2140 | Hostname | OS / Arch | INSTALL | BUILD | CHECK | BUILD BIN | ||||||||
muscat 1.10.1 (landing page) Helena L. Crowell
| nebbiolo1 | Linux (Ubuntu 20.04.5 LTS) / x86_64 | OK | OK | OK | ![]() | ||||||||
palomino3 | Windows Server 2022 Datacenter / x64 | OK | OK | OK | OK | ![]() | ||||||||
merida1 | macOS 10.14.6 Mojave / x86_64 | OK | OK | OK | OK | ![]() | ||||||||
Package: muscat |
Version: 1.10.1 |
Command: /home/biocbuild/bbs-3.15-bioc/R/bin/R CMD check --install=check:muscat.install-out.txt --library=/home/biocbuild/bbs-3.15-bioc/R/library --no-vignettes --timings muscat_1.10.1.tar.gz |
StartedAt: 2022-10-18 20:47:27 -0400 (Tue, 18 Oct 2022) |
EndedAt: 2022-10-18 20:53:56 -0400 (Tue, 18 Oct 2022) |
EllapsedTime: 388.9 seconds |
RetCode: 0 |
Status: OK |
CheckDir: muscat.Rcheck |
Warnings: 0 |
############################################################################## ############################################################################## ### ### Running command: ### ### /home/biocbuild/bbs-3.15-bioc/R/bin/R CMD check --install=check:muscat.install-out.txt --library=/home/biocbuild/bbs-3.15-bioc/R/library --no-vignettes --timings muscat_1.10.1.tar.gz ### ############################################################################## ############################################################################## * using log directory ‘/home/biocbuild/bbs-3.15-bioc/meat/muscat.Rcheck’ * using R version 4.2.1 (2022-06-23) * using platform: x86_64-pc-linux-gnu (64-bit) * using session charset: UTF-8 * using option ‘--no-vignettes’ * checking for file ‘muscat/DESCRIPTION’ ... OK * checking extension type ... Package * this is package ‘muscat’ version ‘1.10.1’ * package encoding: UTF-8 * checking package namespace information ... OK * checking package dependencies ... OK * checking if this is a source package ... OK * checking if there is a namespace ... OK * checking for hidden files and directories ... OK * checking for portable file names ... OK * checking for sufficient/correct file permissions ... OK * checking whether package ‘muscat’ can be installed ... OK * checking installed package size ... OK * checking package directory ... OK * checking ‘build’ directory ... OK * checking DESCRIPTION meta-information ... OK * checking top-level files ... OK * checking for left-over files ... OK * checking index information ... OK * checking package subdirectories ... OK * checking R files for non-ASCII characters ... OK * checking R files for syntax errors ... OK * checking whether the package can be loaded ... OK * checking whether the package can be loaded with stated dependencies ... OK * checking whether the package can be unloaded cleanly ... OK * checking whether the namespace can be loaded with stated dependencies ... OK * checking whether the namespace can be unloaded cleanly ... OK * checking dependencies in R code ... OK * checking S3 generic/method consistency ... OK * checking replacement functions ... OK * checking foreign function calls ... OK * checking R code for possible problems ... OK * checking Rd files ... OK * checking Rd metadata ... OK * checking Rd cross-references ... OK * checking for missing documentation entries ... OK * checking for code/documentation mismatches ... OK * checking Rd \usage sections ... OK * checking Rd contents ... OK * checking for unstated dependencies in examples ... OK * checking contents of ‘data’ directory ... OK * checking data for non-ASCII characters ... OK * checking data for ASCII and uncompressed saves ... OK * checking files in ‘vignettes’ ... OK * checking examples ... OK Examples with CPU (user + system) or elapsed time > 5s user system elapsed mmDS 8.719 0.184 8.904 pbHeatmap 7.613 0.104 7.690 simData 7.119 0.108 7.228 prepSim 4.878 0.152 5.030 * checking for unstated dependencies in ‘tests’ ... OK * checking tests ... Running ‘testthat.R’ OK * checking for unstated dependencies in vignettes ... OK * checking package vignettes in ‘inst/doc’ ... OK * checking running R code from vignettes ... SKIPPED * checking re-building of vignette outputs ... SKIPPED * checking PDF version of manual ... OK * DONE Status: OK
muscat.Rcheck/00install.out
############################################################################## ############################################################################## ### ### Running command: ### ### /home/biocbuild/bbs-3.15-bioc/R/bin/R CMD INSTALL muscat ### ############################################################################## ############################################################################## * installing to library ‘/home/biocbuild/bbs-3.15-bioc/R/library’ * installing *source* package ‘muscat’ ... ** using staged installation ** R ** data ** inst ** byte-compile and prepare package for lazy loading Warning in checkMatrixPackageVersion() : Package version inconsistency detected. TMB was built with Matrix version 1.4.1 Current Matrix version is 1.5.1 Please re-install 'TMB' from source using install.packages('TMB', type = 'source') or ask CRAN for a binary version of 'TMB' matching CRAN's 'Matrix' package Warning in checkDepPackageVersion(dep_pkg = "TMB") : Package version inconsistency detected. glmmTMB was built with TMB version 1.9.0 Current TMB version is 1.9.1 Please re-install glmmTMB from source or restore original ‘TMB’ package (see '?reinstalling' for more information) ** help *** installing help indices ** building package indices ** installing vignettes ** testing if installed package can be loaded from temporary location Warning in checkMatrixPackageVersion() : Package version inconsistency detected. TMB was built with Matrix version 1.4.1 Current Matrix version is 1.5.1 Please re-install 'TMB' from source using install.packages('TMB', type = 'source') or ask CRAN for a binary version of 'TMB' matching CRAN's 'Matrix' package Warning in checkDepPackageVersion(dep_pkg = "TMB") : Package version inconsistency detected. glmmTMB was built with TMB version 1.9.0 Current TMB version is 1.9.1 Please re-install glmmTMB from source or restore original ‘TMB’ package (see '?reinstalling' for more information) ** testing if installed package can be loaded from final location Warning in checkMatrixPackageVersion() : Package version inconsistency detected. TMB was built with Matrix version 1.4.1 Current Matrix version is 1.5.1 Please re-install 'TMB' from source using install.packages('TMB', type = 'source') or ask CRAN for a binary version of 'TMB' matching CRAN's 'Matrix' package Warning in checkDepPackageVersion(dep_pkg = "TMB") : Package version inconsistency detected. glmmTMB was built with TMB version 1.9.0 Current TMB version is 1.9.1 Please re-install glmmTMB from source or restore original ‘TMB’ package (see '?reinstalling' for more information) ** testing if installed package keeps a record of temporary installation path * DONE (muscat)
muscat.Rcheck/tests/testthat.Rout
R version 4.2.1 (2022-06-23) -- "Funny-Looking Kid" Copyright (C) 2022 The R Foundation for Statistical Computing Platform: x86_64-pc-linux-gnu (64-bit) R is free software and comes with ABSOLUTELY NO WARRANTY. You are welcome to redistribute it under certain conditions. Type 'license()' or 'licence()' for distribution details. R is a collaborative project with many contributors. Type 'contributors()' for more information and 'citation()' on how to cite R or R packages in publications. Type 'demo()' for some demos, 'help()' for on-line help, or 'help.start()' for an HTML browser interface to help. Type 'q()' to quit R. > library(testthat) > library(muscat) Warning messages: 1: In checkMatrixPackageVersion() : Package version inconsistency detected. TMB was built with Matrix version 1.4.1 Current Matrix version is 1.5.1 Please re-install 'TMB' from source using install.packages('TMB', type = 'source') or ask CRAN for a binary version of 'TMB' matching CRAN's 'Matrix' package 2: In checkDepPackageVersion(dep_pkg = "TMB") : Package version inconsistency detected. glmmTMB was built with TMB version 1.9.0 Current TMB version is 1.9.1 Please re-install glmmTMB from source or restore original 'TMB' package (see '?reinstalling' for more information) > > test_check("muscat") [ FAIL 0 | WARN 2 | SKIP 0 | PASS 551 ] [ FAIL 0 | WARN 2 | SKIP 0 | PASS 551 ] > > proc.time() user system elapsed 104.467 1.885 106.239
muscat.Rcheck/muscat-Ex.timings
name | user | system | elapsed | |
aggregateData | 3.326 | 0.204 | 3.531 | |
calcExprFreqs | 0.527 | 0.020 | 0.533 | |
data | 0 | 0 | 0 | |
mmDS | 8.719 | 0.184 | 8.904 | |
pbDS | 1.562 | 0.020 | 1.582 | |
pbFlatten | 0.885 | 0.036 | 0.921 | |
pbHeatmap | 7.613 | 0.104 | 7.690 | |
pbMDS | 0.741 | 0.008 | 0.749 | |
prepSCE | 0.591 | 0.012 | 0.603 | |
prepSim | 4.878 | 0.152 | 5.030 | |
resDS | 3.725 | 0.092 | 3.806 | |
simData | 7.119 | 0.108 | 7.228 | |