Back to Multiple platform build/check report for BioC 3.15 |
|
This page was generated on 2022-03-18 11:07:04 -0400 (Fri, 18 Mar 2022).
Hostname | OS | Arch (*) | R version | Installed pkgs |
---|---|---|---|---|
nebbiolo1 | Linux (Ubuntu 20.04.4 LTS) | x86_64 | R Under development (unstable) (2022-02-17 r81757) -- "Unsuffered Consequences" | 4334 |
riesling1 | Windows Server 2019 Standard | x64 | R Under development (unstable) (2021-11-21 r81221) -- "Unsuffered Consequences" | 4097 |
palomino3 | Windows Server 2022 Datacenter | x64 | R Under development (unstable) (2022-02-17 r81757 ucrt) -- "Unsuffered Consequences" | 4083 |
merida1 | macOS 10.14.6 Mojave | x86_64 | R Under development (unstable) (2022-03-02 r81842) -- "Unsuffered Consequences" | 4134 |
Click on any hostname to see more info about the system (e.g. compilers) (*) as reported by 'uname -p', except on Windows and Mac OS X |
To the developers/maintainers of the BLMA package: - Please allow up to 24 hours (and sometimes 48 hours) for your latest push to git@git.bioconductor.org:packages/BLMA.git to reflect on this report. See How and When does the builder pull? When will my changes propagate? here for more information. - Make sure to use the following settings in order to reproduce any error or warning you see on this page. |
Package 201/2090 | Hostname | OS / Arch | INSTALL | BUILD | CHECK | BUILD BIN | ||||||||
BLMA 1.19.0 (landing page) Hung Nguyen
| nebbiolo1 | Linux (Ubuntu 20.04.4 LTS) / x86_64 | OK | OK | OK | ![]() | ||||||||
riesling1 | Windows Server 2019 Standard / x64 | OK | OK | OK | OK | |||||||||
palomino3 | Windows Server 2022 Datacenter / x64 | OK | OK | OK | OK | ![]() | ||||||||
merida1 | macOS 10.14.6 Mojave / x86_64 | OK | OK | OK | OK | ![]() | ||||||||
Package: BLMA |
Version: 1.19.0 |
Command: D:\biocbuild\bbs-3.15-bioc\R\bin\R.exe CMD check --no-multiarch --install=check:BLMA.install-out.txt --library=D:\biocbuild\bbs-3.15-bioc\R\library --no-vignettes --timings BLMA_1.19.0.tar.gz |
StartedAt: 2022-03-17 18:35:28 -0400 (Thu, 17 Mar 2022) |
EndedAt: 2022-03-17 18:41:10 -0400 (Thu, 17 Mar 2022) |
EllapsedTime: 342.0 seconds |
RetCode: 0 |
Status: OK |
CheckDir: BLMA.Rcheck |
Warnings: 0 |
############################################################################## ############################################################################## ### ### Running command: ### ### D:\biocbuild\bbs-3.15-bioc\R\bin\R.exe CMD check --no-multiarch --install=check:BLMA.install-out.txt --library=D:\biocbuild\bbs-3.15-bioc\R\library --no-vignettes --timings BLMA_1.19.0.tar.gz ### ############################################################################## ############################################################################## * using log directory 'D:/biocbuild/bbs-3.15-bioc/meat/BLMA.Rcheck' * using R Under development (unstable) (2021-11-21 r81221) * using platform: x86_64-w64-mingw32 (64-bit) * using session charset: ISO8859-1 * using option '--no-vignettes' * checking for file 'BLMA/DESCRIPTION' ... OK * checking extension type ... Package * this is package 'BLMA' version '1.19.0' * checking package namespace information ... OK * checking package dependencies ... NOTE Depends: includes the non-default packages: 'ROntoTools', 'GSA', 'PADOG', 'limma', 'graph', 'parallel', 'Biobase', 'metafor' Adding so many packages to the search path is excessive and importing selectively is preferable. * checking if this is a source package ... OK * checking if there is a namespace ... OK * checking for hidden files and directories ... OK * checking for portable file names ... OK * checking whether package 'BLMA' can be installed ... OK * checking installed package size ... OK * checking package directory ... OK * checking 'build' directory ... OK * checking DESCRIPTION meta-information ... OK * checking top-level files ... OK * checking for left-over files ... OK * checking index information ... OK * checking package subdirectories ... OK * checking R files for non-ASCII characters ... OK * checking R files for syntax errors ... OK * checking whether the package can be loaded ... OK * checking whether the package can be loaded with stated dependencies ... OK * checking whether the package can be unloaded cleanly ... OK * checking whether the namespace can be loaded with stated dependencies ... OK * checking whether the namespace can be unloaded cleanly ... OK * checking dependencies in R code ... OK * checking S3 generic/method consistency ... OK * checking replacement functions ... OK * checking foreign function calls ... OK * checking R code for possible problems ... NOTE addCLT: warning in pnorm(mean(x), 1/2, sqrt(1/(12 * n)), lower = TRUE): partial argument match of 'lower' to 'lower.tail' additiveMethod: warning in pnorm(sum(x), n/2, sqrt(n/12), lower = TRUE): partial argument match of 'lower' to 'lower.tail' bilevelAnalysisGeneset : <anonymous>: warning in topTable(fit2, adjust = "none", sort.by = "logFC", number = nrow(d) * percent, p.value = pCutoff): partial argument match of 'adjust' to 'adjust.method' bilevelAnalysisPathway : <anonymous>: warning in topTable(fit2, adjust = "none", sort.by = "logFC", number = nrow(d) * percent, p.value = pCutoff): partial argument match of 'adjust' to 'adjust.method' fisherMethod: warning in pchisq(-2 * sum(log(x)), df = 2 * length(x), lower = FALSE): partial argument match of 'lower' to 'lower.tail' getStatistics: warning in topTable(fit2, adjust = "fdr", sort.by = "B", number = Inf): partial argument match of 'adjust' to 'adjust.method' intraAnalysisGene : <anonymous>: warning in topTable(fit2, adjust = "none", sort.by = "none", number = Inf): partial argument match of 'adjust' to 'adjust.method' intraAnalysisGene: warning in topTable(fit2, adjust = "none", sort.by = "none", number = Inf): partial argument match of 'adjust' to 'adjust.method' calculateFC: no visible binding for global variable 'm1i' calculateFC: no visible binding for global variable 'sd1i' calculateFC: no visible binding for global variable 'n1i' calculateFC: no visible binding for global variable 'm2i' calculateFC: no visible binding for global variable 'sd2i' calculateFC: no visible binding for global variable 'n2i' calculateFC: no visible binding for global variable 'yi' getStatistics: no visible binding for global variable 'd' hierClustering: no visible binding for global variable 'km' hierClustering: no visible global function definition for 'clusGap' hierClustering: no visible global function definition for 'maxSE' intraAnalysisGene: no visible binding for global variable 'd' Undefined global functions or variables: clusGap d km m1i m2i maxSE n1i n2i sd1i sd2i yi * checking Rd files ... OK * checking Rd metadata ... OK * checking Rd cross-references ... OK * checking for missing documentation entries ... OK * checking for code/documentation mismatches ... OK * checking Rd \usage sections ... OK * checking Rd contents ... OK * checking for unstated dependencies in examples ... OK * checking contents of 'data' directory ... OK * checking data for non-ASCII characters ... OK * checking data for ASCII and uncompressed saves ... OK * checking files in 'vignettes' ... OK * checking examples ... OK Examples with CPU (user + system) or elapsed time > 5s user system elapsed bilevelAnalysisGeneset 68.34 4.64 72.98 getStatistics 62.69 0.75 65.78 bilevelAnalysisPathway 52.47 0.52 52.99 * checking for unstated dependencies in 'tests' ... OK * checking tests ... Running 'runTests.R' OK * checking for unstated dependencies in vignettes ... OK * checking package vignettes in 'inst/doc' ... OK * checking running R code from vignettes ... SKIPPED * checking re-building of vignette outputs ... SKIPPED * checking PDF version of manual ... OK * DONE Status: 2 NOTEs See 'D:/biocbuild/bbs-3.15-bioc/meat/BLMA.Rcheck/00check.log' for details.
BLMA.Rcheck/00install.out
############################################################################## ############################################################################## ### ### Running command: ### ### D:\biocbuild\bbs-3.15-bioc\R\bin\R.exe CMD INSTALL BLMA ### ############################################################################## ############################################################################## * installing to library 'D:/biocbuild/bbs-3.15-bioc/R/library' * installing *source* package 'BLMA' ... ** using staged installation ** R ** data ** inst ** byte-compile and prepare package for lazy loading ** help *** installing help indices converting help for package 'BLMA' finding HTML links ... done GSE17054 html GSE33223 html GSE42140 html GSE57194 html addCLT html bilevelAnalysisClassic html bilevelAnalysisGene html bilevelAnalysisGeneset html finding level-2 HTML links ... done bilevelAnalysisPathway html fisherMethod html getStatistics html intraAnalysisClassic html intraAnalysisGene html loadKEGGPathways html pORACalc html stoufferMethod html ** building package indices ** installing vignettes ** testing if installed package can be loaded from temporary location ** testing if installed package can be loaded from final location ** testing if installed package keeps a record of temporary installation path * DONE (BLMA) Making 'packages.html' ... done
BLMA.Rcheck/tests/runTests.Rout
R Under development (unstable) (2021-11-21 r81221) -- "Unsuffered Consequences" Copyright (C) 2021 The R Foundation for Statistical Computing Platform: x86_64-w64-mingw32/x64 (64-bit) R is free software and comes with ABSOLUTELY NO WARRANTY. You are welcome to redistribute it under certain conditions. Type 'license()' or 'licence()' for distribution details. R is a collaborative project with many contributors. Type 'contributors()' for more information and 'citation()' on how to cite R or R packages in publications. Type 'demo()' for some demos, 'help()' for on-line help, or 'help.start()' for an HTML browser interface to help. Type 'q()' to quit R. > BiocGenerics:::testPackage("BLMA") Attaching package: 'BiocGenerics' The following objects are masked from 'package:stats': IQR, mad, sd, var, xtabs The following objects are masked from 'package:base': Filter, Find, Map, Position, Reduce, anyDuplicated, append, as.data.frame, basename, cbind, colnames, dirname, do.call, duplicated, eval, evalq, get, grep, grepl, intersect, is.unsorted, lapply, mapply, match, mget, order, paste, pmax, pmax.int, pmin, pmin.int, rank, rbind, rownames, sapply, setdiff, sort, table, tapply, union, unique, unsplit, which.max, which.min Attaching package: 'KEGGgraph' The following object is masked from 'package:graphics': plot The following object is masked from 'package:base': plot Welcome to Bioconductor Vignettes contain introductory material; view with 'browseVignettes()'. To cite Bioconductor, see 'citation("Biobase")', and for packages 'citation("pkgname")'. Attaching package: 'limma' The following object is masked from 'package:BiocGenerics': plotMA Loading the 'metafor' package (version 3.0-2). For an introduction to the package please type: help(metafor) Working on dataset GSE17054, 9 samples Using cached pathway data. Database info: pathway KEGG Pathway Database path Release 73.0+/01-03, Jan 15 Kanehisa Laboratories 343,170 entries Default parameters detected. Using pre-parsed data. Working on dataset GSE17054, 9 samples GSM426404, GSM426405, GSM426406, GSM426407, GSM426412 Working on dataset GSE17054, 9 samples GSM426404, GSM426405, GSM426406, GSM426407, GSM426412 Working on dataset GSE17054, 9 samples GSM426404, GSM426405, GSM426406, GSM426407, GSM426412 Using cached pathway data. Database info: pathway KEGG Pathway Database path Release 73.0+/01-03, Jan 15 Kanehisa Laboratories 343,170 entries Default parameters detected. Using pre-parsed data. Working on dataset GSE17054, 9 samples GSM426404, GSM426405, GSM426406, GSM426407, GSM426412 Using cached pathway data. Database info: pathway KEGG Pathway Database path Release 73.0+/01-03, Jan 15 Kanehisa Laboratories 343,170 entries Default parameters detected. Using pre-parsed data. RUNIT TEST PROTOCOL -- Thu Mar 17 18:41:00 2022 *********************************************** Number of test functions: 10 Number of errors: 0 Number of failures: 0 1 Test Suite : BLMA RUnit Tests - 10 test functions, 0 errors, 0 failures Number of test functions: 10 Number of errors: 0 Number of failures: 0 > > proc.time() user system elapsed 20.28 1.57 21.82
BLMA.Rcheck/BLMA-Ex.timings
name | user | system | elapsed | |
addCLT | 0 | 0 | 0 | |
bilevelAnalysisClassic | 0.01 | 0.00 | 0.02 | |
bilevelAnalysisGene | 2.19 | 0.12 | 2.31 | |
bilevelAnalysisGeneset | 68.34 | 4.64 | 72.98 | |
bilevelAnalysisPathway | 52.47 | 0.52 | 52.99 | |
fisherMethod | 0 | 0 | 0 | |
getStatistics | 62.69 | 0.75 | 65.78 | |
intraAnalysisClassic | 0 | 0 | 0 | |
intraAnalysisGene | 0.39 | 0.03 | 0.42 | |
loadKEGGPathways | 1.63 | 0.01 | 1.64 | |
stoufferMethod | 0 | 0 | 0 | |