Back to Build/check report for BioC 3.13 experimental data |
|
This page was generated on 2021-10-16 15:58:43 -0400 (Sat, 16 Oct 2021).
To the developers/maintainers of the yeastCC package: Make sure to use the following settings in order to reproduce any error or warning you see on this page. |
Package 400/406 | Hostname | OS / Arch | INSTALL | BUILD | CHECK | ||||||||
yeastCC 1.32.0 (landing page) Sandrine Dudoit
| malbec2 | Linux (Ubuntu 20.04.2 LTS) / x86_64 | OK | OK | WARNINGS | ||||||||
Package: yeastCC |
Version: 1.32.0 |
Command: /home/biocbuild/bbs-3.13-bioc/R/bin/R CMD build --keep-empty-dirs --no-resave-data yeastCC |
StartedAt: 2021-10-16 12:45:10 -0400 (Sat, 16 Oct 2021) |
EndedAt: 2021-10-16 12:45:13 -0400 (Sat, 16 Oct 2021) |
EllapsedTime: 2.9 seconds |
RetCode: 0 |
Status: OK |
PackageFile: yeastCC_1.32.0.tar.gz |
PackageFileSize: 5.842 MiB |
############################################################################## ############################################################################## ### ### Running command: ### ### /home/biocbuild/bbs-3.13-bioc/R/bin/R CMD build --keep-empty-dirs --no-resave-data yeastCC ### ############################################################################## ############################################################################## * checking for file ‘yeastCC/DESCRIPTION’ ... OK * preparing ‘yeastCC’: * checking DESCRIPTION meta-information ... OK * checking whether ‘INDEX’ is up-to-date ... NO * use ‘--force’ to remove the existing ‘INDEX’ * checking for LF line-endings in source and make files and shell scripts * checking for empty or unneeded directories * building ‘yeastCC_1.32.0.tar.gz’