Back to Build/check report for BioC 3.13 experimental data |
|
This page was generated on 2021-10-16 15:58:39 -0400 (Sat, 16 Oct 2021).
To the developers/maintainers of the chipenrich.data package: Make sure to use the following settings in order to reproduce any error or warning you see on this page. |
Package 61/406 | Hostname | OS / Arch | INSTALL | BUILD | CHECK | ||||||||
chipenrich.data 2.16.0 (landing page) Raymond G. Cavalcante
| malbec2 | Linux (Ubuntu 20.04.2 LTS) / x86_64 | OK | OK | WARNINGS | ||||||||
Package: chipenrich.data |
Version: 2.16.0 |
Command: /home/biocbuild/bbs-3.13-bioc/R/bin/R CMD INSTALL chipenrich.data |
StartedAt: 2021-10-16 11:12:24 -0400 (Sat, 16 Oct 2021) |
EndedAt: 2021-10-16 11:14:30 -0400 (Sat, 16 Oct 2021) |
EllapsedTime: 126.5 seconds |
RetCode: 0 |
Status: OK |
############################################################################## ############################################################################## ### ### Running command: ### ### /home/biocbuild/bbs-3.13-bioc/R/bin/R CMD INSTALL chipenrich.data ### ############################################################################## ############################################################################## * installing to library ‘/home/biocbuild/bbs-3.13-bioc/R/library’ * installing *source* package ‘chipenrich.data’ ... ** using staged installation ** R ** data *** moving datasets to lazyload DB Warning: objects ‘gene.enh.desc’, ‘gene.enh.desc’ are created by more than one data call ** inst ** byte-compile and prepare package for lazy loading ** help *** installing help indices ** building package indices ** installing vignettes ** testing if installed package can be loaded from temporary location ** testing if installed package can be loaded from final location ** testing if installed package keeps a record of temporary installation path * DONE (chipenrich.data)