Back to Build/check report for BioC 3.13 experimental data |
|
This page was generated on 2021-10-16 15:58:43 -0400 (Sat, 16 Oct 2021).
To the developers/maintainers of the TCGAcrcmiRNA package: Make sure to use the following settings in order to reproduce any error or warning you see on this page. |
Package 376/406 | Hostname | OS / Arch | INSTALL | BUILD | CHECK | ||||||||
TCGAcrcmiRNA 1.12.0 (landing page) Claudio Isella
| malbec2 | Linux (Ubuntu 20.04.2 LTS) / x86_64 | OK | OK | OK | ![]() | |||||||
Package: TCGAcrcmiRNA |
Version: 1.12.0 |
Command: /home/biocbuild/bbs-3.13-bioc/R/bin/R CMD build --keep-empty-dirs --no-resave-data TCGAcrcmiRNA |
StartedAt: 2021-10-16 12:40:44 -0400 (Sat, 16 Oct 2021) |
EndedAt: 2021-10-16 12:40:49 -0400 (Sat, 16 Oct 2021) |
EllapsedTime: 5.5 seconds |
RetCode: 0 |
Status: OK |
PackageFile: TCGAcrcmiRNA_1.12.0.tar.gz |
PackageFileSize: 891 KiB |
############################################################################## ############################################################################## ### ### Running command: ### ### /home/biocbuild/bbs-3.13-bioc/R/bin/R CMD build --keep-empty-dirs --no-resave-data TCGAcrcmiRNA ### ############################################################################## ############################################################################## * checking for file ‘TCGAcrcmiRNA/DESCRIPTION’ ... OK * preparing ‘TCGAcrcmiRNA’: * checking DESCRIPTION meta-information ... OK * installing the package to build vignettes * creating vignettes ... OK * checking for LF line-endings in source and make files and shell scripts * checking for empty or unneeded directories * looking to see if a ‘data/datalist’ file should be added * building ‘TCGAcrcmiRNA_1.12.0.tar.gz’