Back to Build/check report for BioC 3.13 experimental data |
|
This page was generated on 2021-10-16 15:58:43 -0400 (Sat, 16 Oct 2021).
To the developers/maintainers of the RforProteomics package: Make sure to use the following settings in order to reproduce any error or warning you see on this page. |
Package 308/406 | Hostname | OS / Arch | INSTALL | BUILD | CHECK | ||||||||
RforProteomics 1.30.1 (landing page) Laurent Gatto
| malbec2 | Linux (Ubuntu 20.04.2 LTS) / x86_64 | OK | ERROR | skipped | ||||||||
Package: RforProteomics |
Version: 1.30.1 |
Command: /home/biocbuild/bbs-3.13-bioc/R/bin/R CMD INSTALL RforProteomics |
StartedAt: 2021-10-16 11:21:12 -0400 (Sat, 16 Oct 2021) |
EndedAt: 2021-10-16 11:21:27 -0400 (Sat, 16 Oct 2021) |
EllapsedTime: 15.2 seconds |
RetCode: 0 |
Status: OK |
############################################################################## ############################################################################## ### ### Running command: ### ### /home/biocbuild/bbs-3.13-bioc/R/bin/R CMD INSTALL RforProteomics ### ############################################################################## ############################################################################## * installing to library ‘/home/biocbuild/bbs-3.13-bioc/R/library’ * installing *source* package ‘RforProteomics’ ... ** using staged installation ** R ** data ** inst ** byte-compile and prepare package for lazy loading Warning: replacing previous import ‘MSnbase::plot’ by ‘graphics::plot’ when loading ‘RforProteomics’ ** help *** installing help indices ** building package indices ** installing vignettes ** testing if installed package can be loaded from temporary location Warning: replacing previous import ‘MSnbase::plot’ by ‘graphics::plot’ when loading ‘RforProteomics’ ** testing if installed package can be loaded from final location Warning: replacing previous import ‘MSnbase::plot’ by ‘graphics::plot’ when loading ‘RforProteomics’ ** testing if installed package keeps a record of temporary installation path * DONE (RforProteomics)