Back to Build/check report for BioC 3.13 experimental data |
|
This page was generated on 2021-10-16 15:58:43 -0400 (Sat, 16 Oct 2021).
To the developers/maintainers of the RNAseqData.HNRNPC.bam.chr14 package: Make sure to use the following settings in order to reproduce any error or warning you see on this page. |
Package 315/406 | Hostname | OS / Arch | INSTALL | BUILD | CHECK | ||||||||
RNAseqData.HNRNPC.bam.chr14 0.30.0 (landing page) Hervé Pagès
| malbec2 | Linux (Ubuntu 20.04.2 LTS) / x86_64 | OK | OK | OK | ||||||||
Package: RNAseqData.HNRNPC.bam.chr14 |
Version: 0.30.0 |
Command: /home/biocbuild/bbs-3.13-bioc/R/bin/R CMD build --keep-empty-dirs --no-resave-data RNAseqData.HNRNPC.bam.chr14 |
StartedAt: 2021-10-16 12:29:43 -0400 (Sat, 16 Oct 2021) |
EndedAt: 2021-10-16 12:30:32 -0400 (Sat, 16 Oct 2021) |
EllapsedTime: 49.2 seconds |
RetCode: 0 |
Status: OK |
PackageFile: RNAseqData.HNRNPC.bam.chr14_0.30.0.tar.gz |
PackageFileSize: 332.5 MiB |
############################################################################## ############################################################################## ### ### Running command: ### ### /home/biocbuild/bbs-3.13-bioc/R/bin/R CMD build --keep-empty-dirs --no-resave-data RNAseqData.HNRNPC.bam.chr14 ### ############################################################################## ############################################################################## * checking for file ‘RNAseqData.HNRNPC.bam.chr14/DESCRIPTION’ ... OK * preparing ‘RNAseqData.HNRNPC.bam.chr14’: * checking DESCRIPTION meta-information ... OK * checking for LF line-endings in source and make files and shell scripts * checking for empty or unneeded directories * building ‘RNAseqData.HNRNPC.bam.chr14_0.30.0.tar.gz’