Back to Build/check report for BioC 3.13 experimental data |
|
This page was generated on 2021-10-16 15:58:41 -0400 (Sat, 16 Oct 2021).
To the developers/maintainers of the MouseThymusAgeing package: Make sure to use the following settings in order to reproduce any error or warning you see on this page. |
Package 246/406 | Hostname | OS / Arch | INSTALL | BUILD | CHECK | ||||||||
MouseThymusAgeing 1.0.0 (landing page) Mike Morgan
| malbec2 | Linux (Ubuntu 20.04.2 LTS) / x86_64 | OK | OK | OK | ||||||||
Package: MouseThymusAgeing |
Version: 1.0.0 |
Command: /home/biocbuild/bbs-3.13-bioc/R/bin/R CMD build --keep-empty-dirs --no-resave-data MouseThymusAgeing |
StartedAt: 2021-10-16 12:21:54 -0400 (Sat, 16 Oct 2021) |
EndedAt: 2021-10-16 12:22:51 -0400 (Sat, 16 Oct 2021) |
EllapsedTime: 57.4 seconds |
RetCode: 0 |
Status: OK |
PackageFile: MouseThymusAgeing_1.0.0.tar.gz |
PackageFileSize: 296.4 KiB |
############################################################################## ############################################################################## ### ### Running command: ### ### /home/biocbuild/bbs-3.13-bioc/R/bin/R CMD build --keep-empty-dirs --no-resave-data MouseThymusAgeing ### ############################################################################## ############################################################################## * checking for file ‘MouseThymusAgeing/DESCRIPTION’ ... OK * preparing ‘MouseThymusAgeing’: * checking DESCRIPTION meta-information ... OK * installing the package to build vignettes * creating vignettes ... OK * checking for LF line-endings in source and make files and shell scripts * checking for empty or unneeded directories Omitted ‘LazyData’ from DESCRIPTION * building ‘MouseThymusAgeing_1.0.0.tar.gz’