Back to Build/check report for BioC 3.13 experimental data |
|
This page was generated on 2021-10-16 15:58:41 -0400 (Sat, 16 Oct 2021).
To the developers/maintainers of the MetaGxPancreas package: Make sure to use the following settings in order to reproduce any error or warning you see on this page. |
Package 227/406 | Hostname | OS / Arch | INSTALL | BUILD | CHECK | ||||||||
MetaGxPancreas 1.12.1 (landing page) Benjamin Haibe-Kains
| malbec2 | Linux (Ubuntu 20.04.2 LTS) / x86_64 | OK | OK | OK | ||||||||
Package: MetaGxPancreas |
Version: 1.12.1 |
Command: /home/biocbuild/bbs-3.13-bioc/R/bin/R CMD build --keep-empty-dirs --no-resave-data MetaGxPancreas |
StartedAt: 2021-10-16 12:19:45 -0400 (Sat, 16 Oct 2021) |
EndedAt: 2021-10-16 12:21:21 -0400 (Sat, 16 Oct 2021) |
EllapsedTime: 95.9 seconds |
RetCode: 0 |
Status: OK |
PackageFile: MetaGxPancreas_1.12.1.tar.gz |
PackageFileSize: 16.9 KiB |
############################################################################## ############################################################################## ### ### Running command: ### ### /home/biocbuild/bbs-3.13-bioc/R/bin/R CMD build --keep-empty-dirs --no-resave-data MetaGxPancreas ### ############################################################################## ############################################################################## * checking for file ‘MetaGxPancreas/DESCRIPTION’ ... OK * preparing ‘MetaGxPancreas’: * checking DESCRIPTION meta-information ... OK * installing the package to build vignettes * creating vignettes ... OK * checking for LF line-endings in source and make files and shell scripts * checking for empty or unneeded directories Omitted ‘LazyData’ from DESCRIPTION * building ‘MetaGxPancreas_1.12.1.tar.gz’