Back to Build/check report for BioC 3.13 experimental data |
|
This page was generated on 2021-10-16 15:58:41 -0400 (Sat, 16 Oct 2021).
To the developers/maintainers of the Hiiragi2013 package: Make sure to use the following settings in order to reproduce any error or warning you see on this page. |
Package 181/406 | Hostname | OS / Arch | INSTALL | BUILD | CHECK | ||||||||
Hiiragi2013 1.28.0 (landing page) Andrzej Oles
| malbec2 | Linux (Ubuntu 20.04.2 LTS) / x86_64 | OK | OK | OK | ||||||||
Package: Hiiragi2013 |
Version: 1.28.0 |
Command: /home/biocbuild/bbs-3.13-bioc/R/bin/R CMD build --keep-empty-dirs --no-resave-data Hiiragi2013 |
StartedAt: 2021-10-16 12:12:23 -0400 (Sat, 16 Oct 2021) |
EndedAt: 2021-10-16 12:18:28 -0400 (Sat, 16 Oct 2021) |
EllapsedTime: 364.8 seconds |
RetCode: 0 |
Status: OK |
PackageFile: Hiiragi2013_1.28.0.tar.gz |
PackageFileSize: 138.9 MiB |
############################################################################## ############################################################################## ### ### Running command: ### ### /home/biocbuild/bbs-3.13-bioc/R/bin/R CMD build --keep-empty-dirs --no-resave-data Hiiragi2013 ### ############################################################################## ############################################################################## * checking for file ‘Hiiragi2013/DESCRIPTION’ ... OK * preparing ‘Hiiragi2013’: * checking DESCRIPTION meta-information ... OK * installing the package to build vignettes * creating vignettes ... OK * checking for LF line-endings in source and make files and shell scripts * checking for empty or unneeded directories * looking to see if a ‘data/datalist’ file should be added * building ‘Hiiragi2013_1.28.0.tar.gz’