Back to Build/check report for BioC 3.13 experimental data |
|
This page was generated on 2021-10-16 15:58:40 -0400 (Sat, 16 Oct 2021).
To the developers/maintainers of the GIGSEAdata package: Make sure to use the following settings in order to reproduce any error or warning you see on this page. |
Package 148/406 | Hostname | OS / Arch | INSTALL | BUILD | CHECK | ||||||||
GIGSEAdata 1.10.0 (landing page) Shijia Zhu
| malbec2 | Linux (Ubuntu 20.04.2 LTS) / x86_64 | OK | OK | WARNINGS | ||||||||
Package: GIGSEAdata |
Version: 1.10.0 |
Command: /home/biocbuild/bbs-3.13-bioc/R/bin/R CMD build --keep-empty-dirs --no-resave-data GIGSEAdata |
StartedAt: 2021-10-16 12:05:02 -0400 (Sat, 16 Oct 2021) |
EndedAt: 2021-10-16 12:05:12 -0400 (Sat, 16 Oct 2021) |
EllapsedTime: 9.9 seconds |
RetCode: 0 |
Status: OK |
PackageFile: GIGSEAdata_1.10.0.tar.gz |
PackageFileSize: 6.183 MiB |
############################################################################## ############################################################################## ### ### Running command: ### ### /home/biocbuild/bbs-3.13-bioc/R/bin/R CMD build --keep-empty-dirs --no-resave-data GIGSEAdata ### ############################################################################## ############################################################################## * checking for file ‘GIGSEAdata/DESCRIPTION’ ... OK * preparing ‘GIGSEAdata’: * checking DESCRIPTION meta-information ... OK * installing the package to build vignettes * creating vignettes ... OK * checking for LF line-endings in source and make files and shell scripts * checking for empty or unneeded directories * building ‘GIGSEAdata_1.10.0.tar.gz’