Back to Build/check report for BioC 3.13 experimental data |
|
This page was generated on 2021-10-16 15:58:40 -0400 (Sat, 16 Oct 2021).
To the developers/maintainers of the DuoClustering2018 package: Make sure to use the following settings in order to reproduce any error or warning you see on this page. |
Package 108/406 | Hostname | OS / Arch | INSTALL | BUILD | CHECK | ||||||||
DuoClustering2018 1.10.0 (landing page) Angelo Duò
| malbec2 | Linux (Ubuntu 20.04.2 LTS) / x86_64 | OK | OK | OK | ||||||||
Package: DuoClustering2018 |
Version: 1.10.0 |
Command: /home/biocbuild/bbs-3.13-bioc/R/bin/R CMD build --keep-empty-dirs --no-resave-data DuoClustering2018 |
StartedAt: 2021-10-16 11:49:43 -0400 (Sat, 16 Oct 2021) |
EndedAt: 2021-10-16 11:51:56 -0400 (Sat, 16 Oct 2021) |
EllapsedTime: 132.8 seconds |
RetCode: 0 |
Status: OK |
PackageFile: DuoClustering2018_1.10.0.tar.gz |
PackageFileSize: 1.937 MiB |
############################################################################## ############################################################################## ### ### Running command: ### ### /home/biocbuild/bbs-3.13-bioc/R/bin/R CMD build --keep-empty-dirs --no-resave-data DuoClustering2018 ### ############################################################################## ############################################################################## * checking for file ‘DuoClustering2018/DESCRIPTION’ ... OK * preparing ‘DuoClustering2018’: * checking DESCRIPTION meta-information ... OK * installing the package to build vignettes * creating vignettes ... OK * checking for LF line-endings in source and make files and shell scripts * checking for empty or unneeded directories Omitted ‘LazyData’ from DESCRIPTION * building ‘DuoClustering2018_1.10.0.tar.gz’