Back to Build/check report for BioC 3.13 experimental data |
|
This page was generated on 2021-10-16 15:58:40 -0400 (Sat, 16 Oct 2021).
To the developers/maintainers of the DLBCL package: Make sure to use the following settings in order to reproduce any error or warning you see on this page. |
Package 98/406 | Hostname | OS / Arch | INSTALL | BUILD | CHECK | ||||||||
DLBCL 1.32.0 (landing page) Marcus Dittrich
| malbec2 | Linux (Ubuntu 20.04.2 LTS) / x86_64 | OK | OK | WARNINGS | ||||||||
Package: DLBCL |
Version: 1.32.0 |
Command: /home/biocbuild/bbs-3.13-bioc/R/bin/R CMD build --keep-empty-dirs --no-resave-data DLBCL |
StartedAt: 2021-10-16 11:46:54 -0400 (Sat, 16 Oct 2021) |
EndedAt: 2021-10-16 11:46:55 -0400 (Sat, 16 Oct 2021) |
EllapsedTime: 1.2 seconds |
RetCode: 0 |
Status: OK |
PackageFile: DLBCL_1.32.0.tar.gz |
PackageFileSize: 5.525 MiB |
############################################################################## ############################################################################## ### ### Running command: ### ### /home/biocbuild/bbs-3.13-bioc/R/bin/R CMD build --keep-empty-dirs --no-resave-data DLBCL ### ############################################################################## ############################################################################## * checking for file ‘DLBCL/DESCRIPTION’ ... OK * preparing ‘DLBCL’: * checking DESCRIPTION meta-information ... OK * checking for LF line-endings in source and make files and shell scripts * checking for empty or unneeded directories * looking to see if a ‘data/datalist’ file should be added * building ‘DLBCL_1.32.0.tar.gz’