Back to Build/check report for BioC 3.13 experimental data |
|
This page was generated on 2021-10-16 15:58:40 -0400 (Sat, 16 Oct 2021).
To the developers/maintainers of the DAPARdata package: Make sure to use the following settings in order to reproduce any error or warning you see on this page. |
Package 90/406 | Hostname | OS / Arch | INSTALL | BUILD | CHECK | ||||||||
DAPARdata 1.22.2 (landing page) Samuel Wieczorek
| malbec2 | Linux (Ubuntu 20.04.2 LTS) / x86_64 | OK | OK | WARNINGS | ||||||||
Package: DAPARdata |
Version: 1.22.2 |
Command: /home/biocbuild/bbs-3.13-bioc/R/bin/R CMD build --keep-empty-dirs --no-resave-data DAPARdata |
StartedAt: 2021-10-16 11:44:21 -0400 (Sat, 16 Oct 2021) |
EndedAt: 2021-10-16 11:44:52 -0400 (Sat, 16 Oct 2021) |
EllapsedTime: 31.5 seconds |
RetCode: 0 |
Status: OK |
PackageFile: DAPARdata_1.22.2.tar.gz |
PackageFileSize: 33.57 MiB |
############################################################################## ############################################################################## ### ### Running command: ### ### /home/biocbuild/bbs-3.13-bioc/R/bin/R CMD build --keep-empty-dirs --no-resave-data DAPARdata ### ############################################################################## ############################################################################## * checking for file ‘DAPARdata/DESCRIPTION’ ... OK * preparing ‘DAPARdata’: * checking DESCRIPTION meta-information ... OK * checking for LF line-endings in source and make files and shell scripts * checking for empty or unneeded directories * looking to see if a ‘data/datalist’ file should be added * building ‘DAPARdata_1.22.2.tar.gz’