Back to Multiple platform build/check report for BioC 3.13 |
|
This page was generated on 2021-10-15 15:06:21 -0400 (Fri, 15 Oct 2021).
To the developers/maintainers of the scClassify package: - Please allow up to 24 hours (and sometimes 48 hours) for your latest push to git@git.bioconductor.org:packages/scClassify.git to reflect on this report. See How and When does the builder pull? When will my changes propagate? here for more information. - Make sure to use the following settings in order to reproduce any error or warning you see on this page. |
Package 1689/2041 | Hostname | OS / Arch | INSTALL | BUILD | CHECK | BUILD BIN | ||||||||
scClassify 1.4.0 (landing page) Yingxin Lin
| nebbiolo1 | Linux (Ubuntu 20.04.2 LTS) / x86_64 | OK | OK | OK | |||||||||
tokay2 | Windows Server 2012 R2 Standard / x64 | OK | OK | OK | OK | |||||||||
machv2 | macOS 10.14.6 Mojave / x86_64 | OK | OK | OK | OK | |||||||||
Package: scClassify |
Version: 1.4.0 |
Command: rm -rf scClassify.buildbin-libdir && mkdir scClassify.buildbin-libdir && C:\Users\biocbuild\bbs-3.13-bioc\R\bin\R.exe CMD INSTALL --merge-multiarch --build --library=scClassify.buildbin-libdir scClassify_1.4.0.tar.gz |
StartedAt: 2021-10-15 11:38:26 -0400 (Fri, 15 Oct 2021) |
EndedAt: 2021-10-15 11:40:00 -0400 (Fri, 15 Oct 2021) |
EllapsedTime: 94.8 seconds |
RetCode: 0 |
Status: OK |
PackageFile: scClassify_1.4.0.zip |
PackageFileSize: 3.259 MiB |
############################################################################## ############################################################################## ### ### Running command: ### ### rm -rf scClassify.buildbin-libdir && mkdir scClassify.buildbin-libdir && C:\Users\biocbuild\bbs-3.13-bioc\R\bin\R.exe CMD INSTALL --merge-multiarch --build --library=scClassify.buildbin-libdir scClassify_1.4.0.tar.gz ### ############################################################################## ############################################################################## install for i386 * installing *source* package 'scClassify' ... ** using staged installation ** R ** data ** inst ** byte-compile and prepare package for lazy loading ** help *** installing help indices converting help for package 'scClassify' finding HTML links ... done cellTypeTrain html cellTypeTree html dot-scClassifyTrainModel html features html getN html learningCurve html model html modelweights html name html plotCellTypeTree html predict_scClassify html predict_scClassifyJoint html runHOPACH html runSampleCal html scClassify html scClassifyTrainModel-class html scClassifyTrainModelList-class html scClassifyTrainModelList html scClassify_example html trainClassExample_wang html trainClassExample_xin html train_scClassify html *** copying figures ** building package indices ** installing vignettes ** testing if installed package can be loaded from temporary location ** testing if installed package can be loaded from final location ** testing if installed package keeps a record of temporary installation path install for x64 * installing *source* package 'scClassify' ... ** testing if installed package can be loaded * MD5 sums packaged installation of 'scClassify' as scClassify_1.4.0.zip * DONE (scClassify)