Back to Multiple platform build/check report for BioC 3.13 |
|
This page was generated on 2021-10-15 15:06:50 -0400 (Fri, 15 Oct 2021).
To the developers/maintainers of the rgsepd package: - Please allow up to 24 hours (and sometimes 48 hours) for your latest push to git@git.bioconductor.org:packages/rgsepd.git to reflect on this report. See How and When does the builder pull? When will my changes propagate? here for more information. - Make sure to use the following settings in order to reproduce any error or warning you see on this page. |
Package 1572/2041 | Hostname | OS / Arch | INSTALL | BUILD | CHECK | BUILD BIN | ||||||||
rgsepd 1.24.0 (landing page) Karl Stamm
| nebbiolo1 | Linux (Ubuntu 20.04.2 LTS) / x86_64 | OK | OK | OK | |||||||||
tokay2 | Windows Server 2012 R2 Standard / x64 | OK | OK | OK | OK | |||||||||
machv2 | macOS 10.14.6 Mojave / x86_64 | OK | OK | OK | OK | |||||||||
Package: rgsepd |
Version: 1.24.0 |
Command: /Library/Frameworks/R.framework/Versions/Current/Resources/bin/R CMD check --install=check:rgsepd.install-out.txt --library=/Library/Frameworks/R.framework/Versions/Current/Resources/library --no-vignettes --timings rgsepd_1.24.0.tar.gz |
StartedAt: 2021-10-14 23:10:10 -0400 (Thu, 14 Oct 2021) |
EndedAt: 2021-10-14 23:19:46 -0400 (Thu, 14 Oct 2021) |
EllapsedTime: 576.4 seconds |
RetCode: 0 |
Status: OK |
CheckDir: rgsepd.Rcheck |
Warnings: 0 |
############################################################################## ############################################################################## ### ### Running command: ### ### /Library/Frameworks/R.framework/Versions/Current/Resources/bin/R CMD check --install=check:rgsepd.install-out.txt --library=/Library/Frameworks/R.framework/Versions/Current/Resources/library --no-vignettes --timings rgsepd_1.24.0.tar.gz ### ############################################################################## ############################################################################## * using log directory ‘/Users/biocbuild/bbs-3.13-bioc/meat/rgsepd.Rcheck’ * using R version 4.1.1 (2021-08-10) * using platform: x86_64-apple-darwin17.0 (64-bit) * using session charset: UTF-8 * using option ‘--no-vignettes’ * checking for file ‘rgsepd/DESCRIPTION’ ... OK * checking extension type ... Package * this is package ‘rgsepd’ version ‘1.24.0’ * checking package namespace information ... OK * checking package dependencies ... OK * checking if this is a source package ... OK * checking if there is a namespace ... OK * checking for hidden files and directories ... NOTE Found the following hidden files and directories: .git_fetch_output.txt .git_merge_output.txt These were most likely included in error. See section ‘Package structure’ in the ‘Writing R Extensions’ manual. * checking for portable file names ... OK * checking for sufficient/correct file permissions ... OK * checking whether package ‘rgsepd’ can be installed ... OK * checking installed package size ... OK * checking package directory ... OK * checking ‘build’ directory ... OK * checking DESCRIPTION meta-information ... OK * checking top-level files ... OK * checking for left-over files ... OK * checking index information ... OK * checking package subdirectories ... OK * checking R files for non-ASCII characters ... OK * checking R files for syntax errors ... OK * checking whether the package can be loaded ... OK * checking whether the package can be loaded with stated dependencies ... OK * checking whether the package can be unloaded cleanly ... OK * checking whether the namespace can be loaded with stated dependencies ... OK * checking whether the namespace can be unloaded cleanly ... OK * checking dependencies in R code ... OK * checking S3 generic/method consistency ... OK * checking replacement functions ... OK * checking foreign function calls ... OK * checking R code for possible problems ... OK * checking Rd files ... OK * checking Rd metadata ... OK * checking Rd cross-references ... OK * checking for missing documentation entries ... OK * checking for code/documentation mismatches ... OK * checking Rd \usage sections ... OK * checking Rd contents ... OK * checking for unstated dependencies in examples ... OK * checking contents of ‘data’ directory ... OK * checking data for non-ASCII characters ... OK * checking data for ASCII and uncompressed saves ... OK * checking sizes of PDF files under ‘inst/doc’ ... OK * checking files in ‘vignettes’ ... OK * checking examples ... OK Examples with CPU (user + system) or elapsed time > 5s user system elapsed ExtractProjection 112.907 4.714 120.763 GSEPD_DEGHeatmap 6.986 0.058 7.053 GSEPD_Heatmap 5.693 0.032 5.730 GSEPD_PullDEG 5.581 0.032 5.616 GSEPD_PCA_Plot 5.531 0.031 5.563 GSEPD_PCA_Spec 5.481 0.023 5.506 * checking for unstated dependencies in vignettes ... OK * checking package vignettes in ‘inst/doc’ ... OK * checking running R code from vignettes ... SKIPPED * checking re-building of vignette outputs ... SKIPPED * checking PDF version of manual ... OK * DONE Status: 1 NOTE See ‘/Users/biocbuild/bbs-3.13-bioc/meat/rgsepd.Rcheck/00check.log’ for details.
rgsepd.Rcheck/00install.out
############################################################################## ############################################################################## ### ### Running command: ### ### /Library/Frameworks/R.framework/Versions/Current/Resources/bin/R CMD INSTALL rgsepd ### ############################################################################## ############################################################################## * installing to library ‘/Library/Frameworks/R.framework/Versions/4.1/Resources/library’ * installing *source* package ‘rgsepd’ ... ** using staged installation ** R ** data ** inst ** byte-compile and prepare package for lazy loading ** help *** installing help indices ** building package indices ** installing vignettes ** testing if installed package can be loaded from temporary location 'select()' returned 1:1 mapping between keys and columns 'select()' returned 1:1 mapping between keys and columns ** testing if installed package can be loaded from final location 'select()' returned 1:1 mapping between keys and columns 'select()' returned 1:1 mapping between keys and columns ** testing if installed package keeps a record of temporary installation path * DONE (rgsepd)
rgsepd.Rcheck/rgsepd-Ex.timings
name | user | system | elapsed | |
DisplayName | 0.003 | 0.001 | 0.004 | |
ExtractProjection | 112.907 | 4.714 | 120.763 | |
GSEPD_ChangeConditions | 0.413 | 0.005 | 0.418 | |
GSEPD_ChangeOutput | 0.307 | 0.005 | 0.313 | |
GSEPD_DEGHeatmap | 6.986 | 0.058 | 7.053 | |
GSEPD_Export_DESeq | 1.211 | 0.010 | 1.223 | |
GSEPD_Heatmap | 5.693 | 0.032 | 5.730 | |
GSEPD_INIT | 0.479 | 0.014 | 0.493 | |
GSEPD_PCA_Plot | 5.531 | 0.031 | 5.563 | |
GSEPD_PCA_Spec | 5.481 | 0.023 | 5.506 | |
GSEPD_Process | 0.399 | 0.006 | 0.405 | |
GSEPD_ProcessAll | 0.418 | 0.008 | 0.426 | |
GSEPD_PullDEG | 5.581 | 0.032 | 5.616 | |
IlluminaBodymap | 0.326 | 0.007 | 0.334 | |
IlluminaBodymapMeta | 0.012 | 0.003 | 0.015 | |
Name_to_RefSeq | 0.000 | 0.000 | 0.001 | |
rgsepd-package | 0.407 | 0.009 | 0.416 | |