Back to Multiple platform build/check report for BioC 3.12 |
|
This page was generated on 2021-05-06 12:32:23 -0400 (Thu, 06 May 2021).
To the developers/maintainers of the multiClust package: Please make sure to use the following settings in order to reproduce any error or warning you see on this page. |
Package 1176/1974 | Hostname | OS / Arch | INSTALL | BUILD | CHECK | BUILD BIN | ||||||||
multiClust 1.20.0 (landing page) Nathan Lawlor
| malbec1 | Linux (Ubuntu 18.04.5 LTS) / x86_64 | OK | OK | OK | |||||||||
tokay1 | Windows Server 2012 R2 Standard / x64 | OK | OK | OK | OK | |||||||||
merida1 | macOS 10.14.6 Mojave / x86_64 | OK | OK | OK | OK | |||||||||
Package: multiClust |
Version: 1.20.0 |
Command: rm -rf multiClust.buildbin-libdir && mkdir multiClust.buildbin-libdir && C:\Users\biocbuild\bbs-3.12-bioc\R\bin\R.exe CMD INSTALL --merge-multiarch --build --library=multiClust.buildbin-libdir multiClust_1.20.0.tar.gz |
StartedAt: 2021-05-06 09:36:15 -0400 (Thu, 06 May 2021) |
EndedAt: 2021-05-06 09:36:54 -0400 (Thu, 06 May 2021) |
EllapsedTime: 38.9 seconds |
RetCode: 0 |
Status: OK |
PackageFile: multiClust_1.20.0.zip |
PackageFileSize: 2.996 MiB |
############################################################################## ############################################################################## ### ### Running command: ### ### rm -rf multiClust.buildbin-libdir && mkdir multiClust.buildbin-libdir && C:\Users\biocbuild\bbs-3.12-bioc\R\bin\R.exe CMD INSTALL --merge-multiarch --build --library=multiClust.buildbin-libdir multiClust_1.20.0.tar.gz ### ############################################################################## ############################################################################## install for i386 * installing *source* package 'multiClust' ... ** using staged installation ** R ** inst ** byte-compile and prepare package for lazy loading ** help *** installing help indices converting help for package 'multiClust' finding HTML links ... done WriteMatrixToFile html avg_probe_exp html cluster_analysis html input_file html nor.min.max html number_clusters html number_probes html probe_ranking html surv_analysis html ** building package indices ** installing vignettes ** testing if installed package can be loaded from temporary location ** testing if installed package can be loaded from final location ** testing if installed package keeps a record of temporary installation path install for x64 * installing *source* package 'multiClust' ... ** testing if installed package can be loaded * MD5 sums packaged installation of 'multiClust' as multiClust_1.20.0.zip * DONE (multiClust)