| Back to Multiple platform build/check report for BioC 3.12 |
|
This page was generated on 2021-05-06 12:29:50 -0400 (Thu, 06 May 2021).
|
To the developers/maintainers of the AffyCompatible package: Please make sure to use the following settings in order to reproduce any error or warning you see on this page. |
| Package 26/1974 | Hostname | OS / Arch | INSTALL | BUILD | CHECK | BUILD BIN | ||||||||
| AffyCompatible 1.50.0 (landing page) Martin Morgan
| malbec1 | Linux (Ubuntu 18.04.5 LTS) / x86_64 | OK | OK | OK | |||||||||
| tokay1 | Windows Server 2012 R2 Standard / x64 | OK | OK | OK | OK | |||||||||
| merida1 | macOS 10.14.6 Mojave / x86_64 | OK | OK | OK | OK | |||||||||
| Package: AffyCompatible |
| Version: 1.50.0 |
| Command: C:\cygwin\bin\curl.exe -O http://172.29.0.3/BBS/3.12/bioc/src/contrib/AffyCompatible_1.50.0.tar.gz && rm -rf AffyCompatible.buildbin-libdir && mkdir AffyCompatible.buildbin-libdir && C:\Users\biocbuild\bbs-3.12-bioc\R\bin\R.exe CMD INSTALL --merge-multiarch --build --library=AffyCompatible.buildbin-libdir AffyCompatible_1.50.0.tar.gz && C:\Users\biocbuild\bbs-3.12-bioc\R\bin\R.exe CMD INSTALL AffyCompatible_1.50.0.zip && rm AffyCompatible_1.50.0.tar.gz AffyCompatible_1.50.0.zip |
| StartedAt: 2021-05-05 17:07:15 -0400 (Wed, 05 May 2021) |
| EndedAt: 2021-05-05 17:08:26 -0400 (Wed, 05 May 2021) |
| EllapsedTime: 71.4 seconds |
| RetCode: 0 |
| Status: OK |
##############################################################################
##############################################################################
###
### Running command:
###
### C:\cygwin\bin\curl.exe -O http://172.29.0.3/BBS/3.12/bioc/src/contrib/AffyCompatible_1.50.0.tar.gz && rm -rf AffyCompatible.buildbin-libdir && mkdir AffyCompatible.buildbin-libdir && C:\Users\biocbuild\bbs-3.12-bioc\R\bin\R.exe CMD INSTALL --merge-multiarch --build --library=AffyCompatible.buildbin-libdir AffyCompatible_1.50.0.tar.gz && C:\Users\biocbuild\bbs-3.12-bioc\R\bin\R.exe CMD INSTALL AffyCompatible_1.50.0.zip && rm AffyCompatible_1.50.0.tar.gz AffyCompatible_1.50.0.zip
###
##############################################################################
##############################################################################
% Total % Received % Xferd Average Speed Time Time Time Current
Dload Upload Total Spent Left Speed
0 0 0 0 0 0 0 0 --:--:-- --:--:-- --:--:-- 0
100 74421 100 74421 0 0 478k 0 --:--:-- --:--:-- --:--:-- 481k
install for i386
* installing *source* package 'AffyCompatible' ...
** using staged installation
** R
** inst
** byte-compile and prepare package for lazy loading
** help
*** installing help indices
converting help for package 'AffyCompatible'
finding HTML links ... done
AffyCompatible-class html
AffyCompatible-package html
NetAffxResource-class html
NetAffxResource html
accessors-NetAffxResource html
readArr html
readMage html
readNetAffx html
readXml html
xclass html
zzz-.TypedAssociation-class html
zzz-ARRCompatibility-class html
zzz-DTTCompatibility-class html
zzz-NetAffxCompatibility-class html
zzz html
** building package indices
** installing vignettes
** testing if installed package can be loaded from temporary location
** testing if installed package can be loaded from final location
** testing if installed package keeps a record of temporary installation path
install for x64
* installing *source* package 'AffyCompatible' ...
** testing if installed package can be loaded
* MD5 sums
packaged installation of 'AffyCompatible' as AffyCompatible_1.50.0.zip
* DONE (AffyCompatible)
* installing to library 'C:/Users/biocbuild/bbs-3.12-bioc/R/library'
package 'AffyCompatible' successfully unpacked and MD5 sums checked