##############################################################################
##############################################################################
###
### Running command:
###
### cd msdata.buildbin-libdir/msdata && zip -r ../../msdata_0.3.3.zip . & cd ../..
###
##############################################################################
##############################################################################
Scanning files
adding: data/ (256 bytes security) (stored 0%)
adding: data/xs.rda (188 bytes security) (stored 0%)
adding: DESCRIPTION (188 bytes security) (deflated 36%)
adding: fticr/ (256 bytes security) (stored 0%)
adding: fticr/ham4/ (256 bytes security) (stored 0%)
adding: fticr/ham4/HAM004_641fE_14-11-07--Exp1.extracted.mzdata (188 bytes security) (deflated 39%)
adding: fticr/ham4/HAM004_641fE_14-11-07--Exp2.extracted.mzdata (188 bytes security) (deflated 39%)
adding: fticr/ham4/HAM004_641fE_14-11-07--Exp3.extracted.mzdata (188 bytes security) (deflated 39%)
adding: fticr/ham4/HAM004_641fE_14-11-07--Exp4.extracted.mzdata (188 bytes security) (deflated 39%)
adding: fticr/ham4/HAM004_641fE_14-11-07--Exp5.extracted.mzdata (188 bytes security) (deflated 39%)
adding: fticr/ham5/ (256 bytes security) (stored 0%)
adding: fticr/ham5/HAM005_641fE_14-11-07--Exp1.extracted.mzdata (188 bytes security) (deflated 38%)
adding: fticr/ham5/HAM005_641fE_14-11-07--Exp2.extracted.mzdata (188 bytes security) (deflated 38%)
adding: fticr/ham5/HAM005_641fE_14-11-07--Exp3.extracted.mzdata (188 bytes security) (deflated 38%)
adding: fticr/ham5/HAM005_641fE_14-11-07--Exp4.extracted.mzdata (188 bytes security) (deflated 38%)
adding: fticr/ham5/HAM005_641fE_14-11-07--Exp5.extracted.mzdata (188 bytes security) (deflated 38%)
adding: help/ (256 bytes security) (stored 0%)
adding: help/aliases.rds (188 bytes security) (stored 0%)
adding: help/AnIndex (188 bytes security) (deflated 47%)
adding: help/msdata.rdb (188 bytes security) (stored 0%)
adding: help/msdata.rdx (188 bytes security) (stored 0%)
adding: help/paths.rds (188 bytes security) (stored 0%)
adding: html/ (256 bytes security) (stored 0%)
adding: html/00Index.html (188 bytes security) (deflated 56%)
adding: html/R.css (188 bytes security) (deflated 70%)
adding: INDEX (188 bytes security) (deflated 26%)
adding: iontrap/ (256 bytes security) (stored 0%)
adding: iontrap/extracted.mzData (188 bytes security) (deflated 42%)
adding: lockmass/ (256 bytes security) (stored 0%)
adding: lockmass/LockMass_test.mzXML (188 bytes security) (deflated 58%)
adding: MD5 (188 bytes security) (deflated 52%)
adding: Meta/ (256 bytes security) (stored 0%)
adding: Meta/data.rds (188 bytes security) (stored 0%)
adding: Meta/hsearch.rds (188 bytes security) (stored 0%)
adding: Meta/links.rds (188 bytes security) (stored 0%)
adding: Meta/nsInfo.rds (188 bytes security) (stored 0%)
adding: Meta/package.rds (188 bytes security) (stored 0%)
adding: Meta/Rd.rds (188 bytes security) (stored 0%)
adding: microtofq/ (256 bytes security) (stored 0%)
adding: microtofq/MM14.mz5 (188 bytes security) (deflated 10%)
adding: microtofq/MM14.mzdata (188 bytes security) (deflated 50%)
adding: microtofq/MM14.mzdata.gz (188 bytes security) (deflated 0%)
adding: microtofq/MM14.mzML (188 bytes security) (deflated 71%)
adding: microtofq/MM8.mzML (188 bytes security) (deflated 37%)
adding: microtofq/MSMSpos20_6.mzML (188 bytes security) (deflated 67%)
adding: mzid/ (256 bytes security) (stored 0%)
adding: mzid/Mascot.mzid.gz (188 bytes security) (deflated 0%)
adding: mzid/Mascot_MSMS.mzid.gz (188 bytes security) (deflated 0%)
adding: mzid/Mascot_N15.mzid.gz (188 bytes security) (stored 0%)
adding: mzid/Mascot_NA.mzid.gz (188 bytes security) (stored 0%)
adding: mzid/Mascot_pmf.mzid.gz (188 bytes security) (deflated 0%)
adding: mzid/Mascot_top_down.mzid.gz (188 bytes security) (stored 0%)
adding: mzid/MPC_example_Multiple_search_engines.mzid.gz (188 bytes security) (stored 0%)
adding: mzid/Omssa.mzid.gz (188 bytes security) (stored 0%)
adding: mzid/README (188 bytes security) (deflated 9%)
adding: mzid/Sequest.mzid.gz (188 bytes security) (deflated 1%)
adding: mzid/spectraST.mzid.gz (188 bytes security) (deflated 1%)
adding: mzid/Tandem.mzid.gz (188 bytes security) (deflated 0%)
adding: NAMESPACE (188 bytes security) (stored 0%)
adding: threonine/ (256 bytes security) (stored 0%)
adding: threonine/threonine_i2_e35_pH_tree.mzXML (188 bytes security) (deflated 34%)