##############################################################################
##############################################################################
###
### Running command:
###
### cd CLL.buildbin-libdir/CLL && zip -r ../../CLL_1.5.1.zip . & cd ../..
###
##############################################################################
##############################################################################
Scanning files
adding: data/ (256 bytes security) (stored 0%)
adding: data/CLLbatch.rda (188 bytes security) (deflated 0%)
adding: data/datalist (188 bytes security) (deflated 20%)
adding: data/disease.rda (188 bytes security) (stored 0%)
adding: data/nsFilter.rda (188 bytes security) (deflated 16%)
adding: data/sCLLex.rda (188 bytes security) (deflated 1%)
adding: data/sFiltert.rda (188 bytes security) (deflated 17%)
adding: data/sFiltertBH.rda (188 bytes security) (deflated 17%)
adding: DESCRIPTION (188 bytes security) (deflated 37%)
adding: help/ (256 bytes security) (stored 0%)
adding: help/aliases.rds (188 bytes security) (stored 0%)
adding: help/AnIndex (188 bytes security) (deflated 48%)
adding: help/CLL.rdb (188 bytes security) (deflated 1%)
adding: help/CLL.rdx (188 bytes security) (stored 0%)
adding: help/paths.rds (188 bytes security) (stored 0%)
adding: html/ (256 bytes security) (stored 0%)
adding: html/00Index.html (188 bytes security) (deflated 65%)
adding: html/R.css (188 bytes security) (deflated 70%)
adding: INDEX (188 bytes security) (deflated 69%)
adding: MD5 (188 bytes security) (deflated 42%)
adding: Meta/ (256 bytes security) (stored 0%)
adding: Meta/data.rds (188 bytes security) (stored 0%)
adding: Meta/hsearch.rds (188 bytes security) (stored 0%)
adding: Meta/links.rds (188 bytes security) (stored 0%)
adding: Meta/nsInfo.rds (188 bytes security) (stored 0%)
adding: Meta/package.rds (188 bytes security) (stored 0%)
adding: Meta/Rd.rds (188 bytes security) (stored 0%)
adding: NAMESPACE (188 bytes security) (stored 0%)
adding: R/ (256 bytes security) (stored 0%)
adding: R/CLL (188 bytes security) (deflated 41%)
adding: R/CLL.rdb (188 bytes security) (deflated 25%)
adding: R/CLL.rdx (188 bytes security) (stored 0%)