##############################################################################
##############################################################################
###
### Running command:
###
### cd ARRmData.buildbin-libdir/ARRmData && zip -r ../../ARRmData_1.1.1.zip . & cd ../..
###
##############################################################################
##############################################################################
Scanning files
adding: data/ (256 bytes security) (stored 0%)
adding: data/betaMatrix.rda (188 bytes security) (deflated 0%)
adding: data/datalist (188 bytes security) (deflated 25%)
adding: data/greenControlMatrix.rda (188 bytes security) (deflated 0%)
adding: data/redControlMatrix.rda (188 bytes security) (deflated 0%)
adding: data/sampleNames.rda (188 bytes security) (deflated 6%)
adding: DESCRIPTION (188 bytes security) (deflated 33%)
adding: help/ (256 bytes security) (stored 0%)
adding: help/aliases.rds (188 bytes security) (stored 0%)
adding: help/AnIndex (188 bytes security) (deflated 51%)
adding: help/ARRmData.rdb (188 bytes security) (stored 0%)
adding: help/ARRmData.rdx (188 bytes security) (stored 0%)
adding: help/paths.rds (188 bytes security) (stored 0%)
adding: html/ (256 bytes security) (stored 0%)
adding: html/00Index.html (188 bytes security) (deflated 61%)
adding: html/R.css (188 bytes security) (deflated 70%)
adding: INDEX (188 bytes security) (deflated 68%)
adding: MD5 (188 bytes security) (deflated 41%)
adding: Meta/ (256 bytes security) (stored 0%)
adding: Meta/data.rds (188 bytes security) (stored 0%)
adding: Meta/hsearch.rds (188 bytes security) (stored 0%)
adding: Meta/links.rds (188 bytes security) (stored 0%)
adding: Meta/nsInfo.rds (188 bytes security) (stored 0%)
adding: Meta/package.rds (188 bytes security) (stored 0%)
adding: Meta/Rd.rds (188 bytes security) (stored 0%)
adding: NAMESPACE (188 bytes security) (stored 0%)