* checking for file 'CGHnormaliter/DESCRIPTION' ... OK
* preparing 'CGHnormaliter':
* checking DESCRIPTION meta-information ... OK
* installing the package to re-build vignettes
* installing *source* package 'CGHnormaliter' ...
** R
** data
** inst
** preparing package for lazy loading
Loading required package: impute
Loading required package: DNAcopy
Loading required package: Biobase
Welcome to Bioconductor
Vignettes contain introductory material. To view, type
'openVignette()'. To cite Bioconductor, see
'citation("Biobase")' and for packages 'citation(pkgname)'.
Loading required package: CGHbase
Loading required package: marray
Loading required package: limma
Attaching package: 'CGHcall'
The following object(s) are masked from package:CGHbase :
bpend,
bpstart,
calls,
calls<-,
chromosomes,
copynumber,
copynumber<-,
probamp,
probamp<-,
probgain,
probgain<-,
probloss,
probloss<-,
probnorm,
probnorm<-,
segmented,
segmented<-
** help
*** installing help indices
** building package indices ...
** MD5 sums
* DONE (CGHnormaliter)
* creating vignettes ... OK
* removing junk files
* checking for LF line-endings in source and make files
* checking for empty or unneeded directories
* building 'CGHnormaliter_1.0.0.tar.gz'