globaltest 4.12.0 Jelle Goeman
Bioconductor Changelog | Snapshot Date: 2009-04-18 11:27:48 -0700 (Sat, 18 Apr 2009) | URL: https://hedgehog.fhcrc.org/bioconductor/branches/RELEASE_2_3/madman/Rpacks/globaltest | Last Changed Rev: 34811 / Revision: 38965 | Last Changed Date: 2008-10-21 15:32:58 -0700 (Tue, 21 Oct 2008) |
| wilson2 | Linux (openSUSE 11.1) / x86_64 | OK | OK | |
liverpool | Windows Server 2003 R2 (32-bit) / x64 | [ OK ] | OK | OK |
pitt | Mac OS X Tiger (10.4.11) / i386 | OK | OK | OK |
pelham | Mac OS X Leopard (10.5.6) / i386 | OK | OK | OK |
* checking for file 'globaltest/DESCRIPTION' ... OK
* preparing 'globaltest':
* checking DESCRIPTION meta-information ... OK
* installing the package to re-build vignettes
installing R.css in E:/biocbld/bbs-2.3-bioc/tmpdir/Rinst185615817
---------- Making package globaltest ------------
adding build stamp to DESCRIPTION
installing NAMESPACE file and metadata
installing R files
installing inst files
installing data files
preparing package globaltest for lazy loading
Loading required package: Biobase
Loading required package: tools
Welcome to Bioconductor
Vignettes contain introductory material. To view, type
'openVignette()'. To cite Bioconductor, see
'citation("Biobase")' and for packages 'citation(pkgname)'.
Creating a new generic function for "summary" in "globaltest"
Creating a new generic function for "fitted.values" in "globaltest"
Creating a new generic function for "residuals" in "globaltest"
installing man source files
installing indices
not zipping data
installing help
>>> Building/Updating help pages for package 'globaltest'
Formats: text html latex example chm
GOstructure text html latex chm
annotation.vandeVijver text html latex chm
checkerboard text html latex example chm
geneplot text html latex example chm
globaltest text html latex example chm
gostructure.vandeVijver text html latex chm
gt.barplot-class text html latex chm
gt.result-class text html latex chm
gtGO text html latex example chm
mlogit text html latex example chm
multtest text html latex example chm
permutations text html latex example chm
regressionplot text html latex example chm
sampleplot text html latex example chm
sampling text html latex example chm
vandeVijver text html latex chm
Microsoft HTML Help Compiler 4.74.8702
Compiling e:\biocbld\bbs-2.3-bioc\meat\globaltest\chm\globaltest.chm
Compile time: 0 minutes, 13 seconds
17 Topics
161 Local links
0 Internet links
1 Graphic
Created e:\biocbld\bbs-2.3-bioc\meat\globaltest\chm\globaltest.chm, 48,671 bytes
Compression decreased file by 46,591 bytes.
adding MD5 sums
* DONE (globaltest)
* creating vignettes ... OK
* removing junk files
* checking for LF line-endings in source and make files
* checking for empty or unneeded directories
* building 'globaltest_4.12.0.tar.gz'