Back to the "Multiple platform build/check report" | A B C D E F G H I J K L M N O P Q R [S] T U V W X Y Z |
Package 235/264 | Hostname | OS / Arch | BUILD | CHECK | BUILD BIN | ||||
SLqPCR 1.5.0 Matthias Kohl
| lamb1 | Linux (SUSE 10.1) / x86_64 | OK | OK | |||||
wilson2 | Linux (openSUSE 10.3) / x86_64 | OK | OK | ||||||
wellington | Linux (openSUSE 10.3) / i686 | OK | OK | ||||||
liverpool | Windows Server 2003 R2 (32-bit) / x64 | OK | OK | OK | |||||
pelham | Mac OS X Leopard (10.5.1) / i386 | OK | OK | [ OK ] |
Package: SLqPCR |
Version: 1.5.0 |
Command: /Users/biocbuild/BBS/utils/build-universal.sh SLqPCR_1.5.0.tar.gz /Library/Frameworks/R.framework/Resources/bin/R SLqPCR.buildbin-libdir |
StartedAt: 2008-04-09 07:35:00 -0700 (Wed, 09 Apr 2008) |
EndedAt: 2008-04-09 07:35:06 -0700 (Wed, 09 Apr 2008) |
EllapsedTime: 6.0 seconds |
RetCode: 0 |
Status: OK |
PackageFile: SLqPCR_1.5.0.tgz |
PackageFileSize: 150.5 KiB |
INSTALLATION WITH 'R CMD INSTALL SLqPCR_1.5.0.tar.gz' * Installing to library 'SLqPCR.buildbin-libdir' * Installing *source* package 'SLqPCR' ... ** R ** data ** inst ** help >>> Building/Updating help pages for package 'SLqPCR' Formats: text html latex example SLqPCR-package text html latex SLqPCRdata text html latex example geneStabM text html latex geomMean text html latex normPCR text html latex example relQuantPCR text html latex selectHKgenes text html latex example vandesompele text html latex example ** building package indices ... * DONE (SLqPCR)