rols 1.6.1 Laurent Gatto
Snapshot Date: 2014-10-07 17:20:37 -0700 (Tue, 07 Oct 2014) | URL: https://hedgehog.fhcrc.org/bioconductor/branches/RELEASE_2_14/madman/Rpacks/rols | Last Changed Rev: 95096 / Revision: 95116 | Last Changed Date: 2014-10-07 14:02:28 -0700 (Tue, 07 Oct 2014) |
| zin2 | Linux (Ubuntu 12.04.4 LTS) / x86_64 | OK | OK | OK | |
moscato2 | Windows Server 2008 R2 Enterprise SP1 (64-bit) / x64 | OK | OK | OK | OK |
petty | Mac OS X Snow Leopard (10.6.8) / x86_64 | OK | OK | OK | [ OK ] |
morelia | Mac OS X Mavericks (10.9.5) / x86_64 | OK | OK | OK | OK |
##############################################################################
##############################################################################
###
### Running command:
###
### rm -rf rols.buildbin-libdir && mkdir rols.buildbin-libdir && /Users/biocbuild/BBS/utils/build-universal.sh rols_1.6.1.tar.gz /Library/Frameworks/R.framework/Versions/Current/Resources/bin/R rols.buildbin-libdir
###
##############################################################################
##############################################################################
>>>>>>>
>>>>>>> INSTALLATION WITH 'R CMD INSTALL --preclean --no-multiarch --library=rols.buildbin-libdir rols_1.6.1.tar.gz'
>>>>>>>
* installing *source* package ‘rols’ ...
** R
** inst
** preparing package for lazy loading
Note: the specification for S3 class “connection” in package ‘BiocGenerics’ seems equivalent to one from package ‘SSOAP’: not turning on duplicate class definitions for this class.
** help
*** installing help indices
** building package indices
** installing vignettes
** testing if installed package can be loaded
Note: the specification for S3 class “connection” in package ‘BiocGenerics’ seems equivalent to one from package ‘SSOAP’: not turning on duplicate class definitions for this class.
* DONE (rols)