gmapR 1.6.6 Michael Lawrence
Snapshot Date: 2014-10-07 17:20:37 -0700 (Tue, 07 Oct 2014) | URL: https://hedgehog.fhcrc.org/bioconductor/branches/RELEASE_2_14/madman/Rpacks/gmapR | Last Changed Rev: 93311 / Revision: 95116 | Last Changed Date: 2014-08-11 14:48:20 -0700 (Mon, 11 Aug 2014) |
| zin2 | Linux (Ubuntu 12.04.4 LTS) / x86_64 | OK | [ OK ] | WARNINGS | |
moscato2 | Windows Server 2008 R2 Enterprise SP1 (64-bit) / x64 | ...NOT SUPPORTED...NOT SUPPORTED...NOT SUPPORTED... |
petty | Mac OS X Snow Leopard (10.6.8) / x86_64 | ...NOT SUPPORTED...NOT SUPPORTED...NOT SUPPORTED... |
morelia | Mac OS X Mavericks (10.9.5) / x86_64 | ...NOT SUPPORTED...NOT SUPPORTED...NOT SUPPORTED... |
##############################################################################
##############################################################################
###
### Running command:
###
### /home/biocbuild/bbs-2.14-bioc/R/bin/R CMD build --keep-empty-dirs --no-resave-data gmapR
###
##############################################################################
##############################################################################
* checking for file ‘gmapR/DESCRIPTION’ ... OK
* preparing ‘gmapR’:
* checking DESCRIPTION meta-information ... OK
* cleaning src
* installing the package to build vignettes
* creating vignettes ... OK
* cleaning src
* checking for LF line-endings in source and make files
* checking for empty or unneeded directories
WARNING: directory ‘gmapR/inst/GmapGenomePackage-template/inst/extdata’ is empty
* building ‘gmapR_1.6.6.tar.gz’