HMMcopy 1.2.0 Daniel Lai , Gavin Ha , Sohrab Shah
Snapshot Date: 2013-04-30 17:01:37 -0700 (Tue, 30 Apr 2013) | URL: https://hedgehog.fhcrc.org/bioconductor/branches/RELEASE_2_12/madman/Rpacks/HMMcopy | Last Changed Rev: 75263 / Revision: 76155 | Last Changed Date: 2013-04-03 14:32:27 -0700 (Wed, 03 Apr 2013) |
| george2 | Linux (Ubuntu 12.04.1 LTS) / x86_64 | OK | OK | |
moscato2 | Windows Server 2008 R2 Enterprise SP1 (64-bit) / x64 | OK | OK | OK |
petty | Mac OS X Snow Leopard (10.6.8) / x86_64 | OK | OK | OK |
pelham | Mac OS X Snow Leopard (10.6.8) / x86_64 | OK | OK | [ OK ] |
>>>>>>>
>>>>>>> INSTALLATION WITH 'R CMD INSTALL --preclean --no-multiarch --library=HMMcopy.buildbin-libdir HMMcopy_1.2.0.tar.gz'
>>>>>>>
* installing *source* package 'HMMcopy' ...
** libs
clang -I/Library/Frameworks/R.framework/Resources/include -DNDEBUG -I/usr/local/include -fPIC -mtune=native -g -O2 -Wall -pedantic -Wconversion -c forward_backward.c -o forward_backward.o
forward_backward.c:35:47: warning: implicit conversion changes signedness: 'int' to 'unsigned int' [-Wsign-conversion]
transposeSquareInPlace(transmatT, transmat, K);
˜˜˜˜˜˜˜˜˜˜˜˜˜˜˜˜˜˜˜˜˜˜ ^
forward_backward.c:63:70: warning: implicit conversion changes signedness: 'int' to 'unsigned int' [-Wsign-conversion]
multiplyInPlace(alpha + t * K, init_state_distrib, obslik + t * K, K);
˜˜˜˜˜˜˜˜˜˜˜˜˜˜˜ ^
forward_backward.c:64:46: warning: implicit conversion changes signedness: 'int' to 'unsigned int' [-Wsign-conversion]
scale[t] = normalizeInPlace(alpha + t * K, K);
˜˜˜˜˜˜˜˜˜˜˜˜˜˜˜˜ ^
forward_backward.c:72:62: warning: implicit conversion changes signedness: 'int' to 'unsigned int' [-Wsign-conversion]
multiplyMatrixInPlace(m, transmatT, alpha + (t - 1) * K, K);
˜˜˜˜˜˜˜˜˜˜˜˜˜˜˜˜˜˜˜˜˜ ^
forward_backward.c:73:55: warning: implicit conversion changes signedness: 'int' to 'unsigned int' [-Wsign-conversion]
multiplyInPlace(alpha + t * K, m, obslik + t * K, K);
˜˜˜˜˜˜˜˜˜˜˜˜˜˜˜ ^
forward_backward.c:74:48: warning: implicit conversion changes signedness: 'int' to 'unsigned int' [-Wsign-conversion]
scale[t] = normalizeInPlace(alpha + t * K, K);
˜˜˜˜˜˜˜˜˜˜˜˜˜˜˜˜ ^
forward_backward.c:112:66: warning: implicit conversion changes signedness: 'int' to 'unsigned int' [-Wsign-conversion]
multiplyInPlace(b, beta + (t + 1) * K, obslik + (t + 1) * K, K);
˜˜˜˜˜˜˜˜˜˜˜˜˜˜˜ ^
forward_backward.c:113:43: warning: implicit conversion changes signedness: 'int' to 'unsigned int' [-Wsign-conversion]
multiplyMatrixInPlace(m, transmat, b, K);
˜˜˜˜˜˜˜˜˜˜˜˜˜˜˜˜˜˜˜˜˜ ^
forward_backward.c:114:25: warning: implicit conversion changes signedness: 'int' to 'unsigned int' [-Wsign-conversion]
normalizeInPlace(m, K);
˜˜˜˜˜˜˜˜˜˜˜˜˜˜˜˜ ^
forward_backward.c:121:58: warning: implicit conversion changes signedness: 'int' to 'unsigned int' [-Wsign-conversion]
outerProductUVInPlace(squareSpace, alpha + t * K, b, K);
˜˜˜˜˜˜˜˜˜˜˜˜˜˜˜˜˜˜˜˜˜ ^
forward_backward.c:123:49: warning: implicit conversion changes signedness: 'int' to 'unsigned int' [-Wsign-conversion]
eta + t * K * K, transmat, squareSpace, K * K);
˜˜^˜˜
forward_backward.c:124:41: warning: implicit conversion changes signedness: 'int' to 'unsigned int' [-Wsign-conversion]
normalizeInPlace(eta + t * K * K, K * K);
˜˜˜˜˜˜˜˜˜˜˜˜˜˜˜˜ ˜˜^˜˜
forward_backward.c:127:53: warning: implicit conversion changes signedness: 'int' to 'unsigned int' [-Wsign-conversion]
multiplyInPlace(m, alpha + t * K, beta + t * K, K);
˜˜˜˜˜˜˜˜˜˜˜˜˜˜˜ ^
forward_backward.c:128:25: warning: implicit conversion changes signedness: 'int' to 'unsigned int' [-Wsign-conversion]
normalizeInPlace(m, K);
˜˜˜˜˜˜˜˜˜˜˜˜˜˜˜˜ ^
forward_backward.c:28:13: warning: unused variable 'tmp' [-Wunused-variable]
int K, T, tmp;
^
15 warnings generated.
clang -I/Library/Frameworks/R.framework/Resources/include -DNDEBUG -I/usr/local/include -fPIC -mtune=native -g -O2 -Wall -pedantic -Wconversion -c register.c -o register.o
clang -I/Library/Frameworks/R.framework/Resources/include -DNDEBUG -I/usr/local/include -fPIC -mtune=native -g -O2 -Wall -pedantic -Wconversion -c viterbi.c -o viterbi.o
viterbi.c:50:52: warning: implicit conversion changes signedness: 'int' to 'unsigned int' [-Wsign-conversion]
addVectors(delta + t * K, prior, obslik + t * K, K);
˜˜˜˜˜˜˜˜˜˜ ^
viterbi.c:51:40: warning: implicit conversion changes signedness: 'int' to 'unsigned int' [-Wsign-conversion]
setVectorToValue_int(psi + t * K, 0, K);
˜˜˜˜˜˜˜˜˜˜˜˜˜˜˜˜˜˜˜˜ ^
viterbi.c:56:60: warning: implicit conversion changes signedness: 'int' to 'unsigned int' [-Wsign-conversion]
addVectors(d, delta + (t - 1) * K, transmat + j * K, K);
˜˜˜˜˜˜˜˜˜˜ ^
viterbi.c:57:63: warning: implicit conversion changes signedness: 'int' to 'unsigned int' [-Wsign-conversion]
maxVectorInPlace(delta + j + t * K, psi + j + t * K, d, K);
˜˜˜˜˜˜˜˜˜˜˜˜˜˜˜˜ ^
viterbi.c:64:48: warning: implicit conversion changes signedness: 'int' to 'unsigned int' [-Wsign-conversion]
maxVectorInPlace(d, path + t, delta + t * K, K); // Use d[0] as temp variable
˜˜˜˜˜˜˜˜˜˜˜˜˜˜˜˜ ^
viterbi.c:21:13: warning: unused variable 'tmp' [-Wunused-variable]
int K, T, tmp;
^
viterbi.c:144:15: warning: implicit conversion changes signedness: 'unsigned int' to 'int' [-Wsign-conversion]
index = i;
˜ ^
7 warnings generated.
clang -dynamiclib -Wl,-headerpad_max_install_names -undefined dynamic_lookup -single_module -multiply_defined suppress -L/usr/local/lib -L/usr/local/lib -o HMMcopy.so forward_backward.o register.o viterbi.o -F/Library/Frameworks/R.framework/.. -framework R -Wl,-framework -Wl,CoreFoundation
installing to /Users/biocbuild/bbs-2.12-bioc/meat/HMMcopy.buildbin-libdir/HMMcopy/libs
** R
** data
** inst
** preparing package for lazy loading
** help
*** installing help indices
** building package indices
** installing vignettes
** testing if installed package can be loaded
* DONE (HMMcopy)
>>>>>>>
>>>>>>> FIXING LINKS FOR HMMcopy.buildbin-libdir/HMMcopy/libs//HMMcopy.so
>>>>>>>
install_name_tool -change "/usr/local/lib/libgcc_s.1.dylib" "/Library/Frameworks/R.framework/Versions/3.0/Resources/lib/libgcc_s.1.dylib" "HMMcopy.buildbin-libdir/HMMcopy/libs//HMMcopy.so"
install_name_tool -change "/usr/local/lib/libgfortran.2.dylib" "/Library/Frameworks/R.framework/Versions/3.0/Resources/lib/libgfortran.2.dylib" "HMMcopy.buildbin-libdir/HMMcopy/libs//HMMcopy.so"
install_name_tool -change "/usr/local/lib/libreadline.5.2.dylib" "/Library/Frameworks/R.framework/Versions/3.0/Resources/lib/libreadline.5.2.dylib" "HMMcopy.buildbin-libdir/HMMcopy/libs//HMMcopy.so"
install_name_tool -change "/usr/local/lib/libreadline.dylib" "/Library/Frameworks/R.framework/Versions/3.0/Resources/lib/libreadline.dylib" "HMMcopy.buildbin-libdir/HMMcopy/libs//HMMcopy.so"