Back to the "Multiple platform build/check report"
Package 125/234 | Hostname | OS | Arch | BUILD | CHECK | BUILD BIN |
makecdfenv 1.16.0 James W. MacDonald Last Changed Date: 2007-10-02 17:41:09 -0700 Last Changed Rev: 27709 | lamb1 | Linux (SUSE 10.1) | x86_64 | OK | OK | |
wellington | Linux (SUSE 9.2) | i686 | OK | OK | ||
liverpool | Windows Server 2003 R2 (32-bit) | x64 | OK | OK | [ OK ] | |
pitt | Mac OS X (10.4.10) | i386 | OK | OK | OK |
Package: makecdfenv |
Version: 1.16.0 |
Command: E:\biocbld\bbs-2.1-bioc\R\bin\R.exe CMD INSTALL --build --library=makecdfenv.buildbin-libdir makecdfenv_1.16.0.tar.gz |
RetCode: 0 |
Time: 20.6 seconds |
Status: OK |
PackageFile: makecdfenv_1.16.0.zip |
installing R.css in E:/biocbld/bbs-2.1-bioc/meat/makecdfenv.buildbin-libdir Using auto-selected zip options '' ---------- Making package makecdfenv ------------ ********************************************** WARNING: this package has a configure script It probably needs manual configuration ********************************************** adding build stamp to DESCRIPTION installing NAMESPACE file and metadata making DLL ... making read_cdffile.d from read_cdffile.c gcc-sjlj -std=gnu99 -IE:/biocbld/bbs-2.1-bioc/R/src/extra/zlib -DHAVE_ZLIB -IE:/biocbld/bbs-2.1-bioc/R/include -Wall -O3 -c read_cdffile.c -o read_cdffile.o windres --preprocessor="gcc-sjlj -E -xc -DRC_INVOKED" -I E:/biocbld/bbs-2.1-bioc/R/include -i makecdfenv_res.rc -o makecdfenv_res.o gcc-sjlj -std=gnu99 -shared -s -o makecdfenv.dll makecdfenv.def read_cdffile.o makecdfenv_res.o -LE:/biocbld/bbs-2.1-bioc/R/bin -LE:/biocbld/bbs-2.1-bioc/R/src/extra/zlib -lz -lR ... DLL made installing DLL installing R files installing inst files preparing package makecdfenv for lazy loading Loading required package: Biobase Loading required package: tools Welcome to Bioconductor Vignettes contain introductory material. To view, type 'openVignette()'. To cite Bioconductor, see 'citation("Biobase")' and for packages 'citation(pkgname)'. Loading required package: affy Loading required package: affyio Loading required package: preprocessCore installing man source files installing indices installing help >>> Building/Updating help pages for package 'makecdfenv' Formats: text html latex example chm Cdf-class text html latex chm getInfoInAffyFile text html latex chm make.cdf.env text html latex example chm make.cdf.package text html latex example chm pmormm text html latex chm read.cdffile text html latex example chm Microsoft HTML Help Compiler 4.74.8702 Compiling e:\biocbld\bbs-2.1-bioc\meat\R.INSTALL.5212\makecdfenv\chm\makecdfenv.chm Compile time: 0 minutes, 0 seconds 7 Topics 42 Local links 0 Internet links 1 Graphic Created e:\biocbld\bbs-2.1-bioc\meat\R.INSTALL.5212\makecdfenv\chm\makecdfenv.chm, 26,861 bytes Compression decreased file by 7,466 bytes. adding MD5 sums packaged installation of package 'makecdfenv' as makecdfenv_1.16.0.zip * DONE (makecdfenv)