Back to the "Multiple platform build/check report"
Package 37/214 | Hostname | OS | Arch | BUILD | CHECK | BUILD BIN |
BufferedMatrix1.0.0Benjamin Milo BolstadLast Changed Date: 2007-04-24 11:21:48 -0700 Last Changed Rev: 24214 | lamb1 | Linux (SUSE 10.1) | x86_64 | OK | OK | |
wellington | Linux (SUSE 9.2) | i686 | OK | OK | ||
churchill | Solaris 2.9 | sparc | OK | OK | ||
lemming | Windows Server 2003 (32-bit) | x64 | OK | OK | OK | |
liverpool | Windows Server 2003 R2 (32-bit) | x64 | OK | OK | OK | |
derby | Mac OS X (10.4.9) | i686 | [ OK ] | OK |
Package: BufferedMatrix |
Version: 1.0.0 |
Command: /Library/Frameworks/R.framework/Resources/bin/R CMD build BufferedMatrix |
RetCode: 0 |
Time: 24.5 seconds |
Status: OK |
PackageFile: BufferedMatrix_1.0.0.tar.gz |
* checking for file 'BufferedMatrix/DESCRIPTION' ... OK * preparing 'BufferedMatrix': * checking DESCRIPTION meta-information ... OK * cleaning src * installing the package to re-build vignettes * Installing *source* package 'BufferedMatrix' ... ** libs ** arch - i386 gcc-4.0 -arch i386 -isysroot /Developer/SDKs/MacOSX10.4u.sdk -no-cpp-precomp -I/Library/Frameworks/R.framework/Resources/include -I/Library/Frameworks/R.framework/Resources/include/i386 -msse3 -D__NO_MATH_INLINES -fPIC -g -O2 -std=gnu99 -march=nocona -c RBufferedMatrix.c -o RBufferedMatrix.o gcc-4.0 -arch i386 -isysroot /Developer/SDKs/MacOSX10.4u.sdk -no-cpp-precomp -I/Library/Frameworks/R.framework/Resources/include -I/Library/Frameworks/R.framework/Resources/include/i386 -msse3 -D__NO_MATH_INLINES -fPIC -g -O2 -std=gnu99 -march=nocona -c doubleBufferedMatrix.c -o doubleBufferedMatrix.o gcc-4.0 -arch i386 -isysroot /Developer/SDKs/MacOSX10.4u.sdk -no-cpp-precomp -I/Library/Frameworks/R.framework/Resources/include -I/Library/Frameworks/R.framework/Resources/include/i386 -msse3 -D__NO_MATH_INLINES -fPIC -g -O2 -std=gnu99 -march=nocona -c doubleBufferedMatrix_C_tests.c -o doubleBufferedMatrix_C_tests.o doubleBufferedMatrix_C_tests.c: In function 'dbm_c_tester': doubleBufferedMatrix_C_tests.c:26: warning: implicit declaration of function 'Rprintf' gcc-4.0 -arch i386 -isysroot /Developer/SDKs/MacOSX10.4u.sdk -no-cpp-precomp -I/Library/Frameworks/R.framework/Resources/include -I/Library/Frameworks/R.framework/Resources/include/i386 -msse3 -D__NO_MATH_INLINES -fPIC -g -O2 -std=gnu99 -march=nocona -c init_package.c -o init_package.o gcc-4.0 -arch i386 -isysroot /Developer/SDKs/MacOSX10.4u.sdk -dynamiclib -Wl,-macosx_version_min -Wl,10.3 -undefined dynamic_lookup -single_module -multiply_defined suppress -L/usr/local/lib -o BufferedMatrix.so RBufferedMatrix.o doubleBufferedMatrix.o doubleBufferedMatrix_C_tests.o init_package.o -F/Library/Frameworks/R.framework/.. -framework R ** arch - ppc gcc-4.0 -arch ppc -isysroot /Developer/SDKs/MacOSX10.4u.sdk -std=gnu99 -no-cpp-precomp -I/Library/Frameworks/R.framework/Resources/include -I/Library/Frameworks/R.framework/Resources/include/ppc -I/usr/local/include -fPIC -g -O2 -c RBufferedMatrix.c -o RBufferedMatrix.o gcc-4.0 -arch ppc -isysroot /Developer/SDKs/MacOSX10.4u.sdk -std=gnu99 -no-cpp-precomp -I/Library/Frameworks/R.framework/Resources/include -I/Library/Frameworks/R.framework/Resources/include/ppc -I/usr/local/include -fPIC -g -O2 -c doubleBufferedMatrix.c -o doubleBufferedMatrix.o gcc-4.0 -arch ppc -isysroot /Developer/SDKs/MacOSX10.4u.sdk -std=gnu99 -no-cpp-precomp -I/Library/Frameworks/R.framework/Resources/include -I/Library/Frameworks/R.framework/Resources/include/ppc -I/usr/local/include -fPIC -g -O2 -c doubleBufferedMatrix_C_tests.c -o doubleBufferedMatrix_C_tests.o doubleBufferedMatrix_C_tests.c: In function 'dbm_c_tester': doubleBufferedMatrix_C_tests.c:26: warning: implicit declaration of function 'Rprintf' gcc-4.0 -arch ppc -isysroot /Developer/SDKs/MacOSX10.4u.sdk -std=gnu99 -no-cpp-precomp -I/Library/Frameworks/R.framework/Resources/include -I/Library/Frameworks/R.framework/Resources/include/ppc -I/usr/local/include -fPIC -g -O2 -c init_package.c -o init_package.o gcc-4.0 -arch ppc -isysroot /Developer/SDKs/MacOSX10.4u.sdk -std=gnu99 -dynamiclib -Wl,-macosx_version_min -Wl,10.3 -undefined dynamic_lookup -single_module -multiply_defined suppress -L/usr/local/lib -o BufferedMatrix.so RBufferedMatrix.o doubleBufferedMatrix.o doubleBufferedMatrix_C_tests.o init_package.o -F/Library/Frameworks/R.framework/.. -framework R ** R ** inst ** save image [1] "buffer.dim" [1] "is.ColMode" [1] "is.RowMode" [1] "RowMode" [1] "ColMode" [1] "set.buffer.dim" [1] "prefix" [1] "directory" [1] "filenames" [1] "duplicate" [1] "ewApply" [1] "pow" [1] "Max" [1] "Min" [1] "Sum" [1] "Var" [1] "Sd" [1] "rowMeans" [1] "rowSums" [1] "rowVars" [1] "rowSd" [1] "rowMax" [1] "rowMin" [1] "colMeans" [1] "colSums" [1] "colVars" [1] "colSd" [1] "colMax" [1] "colMin" [1] "colMedians" [1] "colRanges" [1] "colApply" [1] "rowApply" [1] "subBufferedMatrix" [1] "rownames" [1] "colnames" [1] "colnames<-" [1] "rownames<-" [1] "ReadOnlyMode" [1] "is.ReadOnlyMode" [1] "memory.usage" [1] "disk.usage" [1] "AddColumn" [1] "BufferedMatrix" [1] "dim" [1] "buffer.dim" [1] "[" [1] "[<-" [1] "show" Creating a new generic function for "ncol" in "BufferedMatrix" [1] "ncol" Creating a new generic function for "nrow" in "BufferedMatrix" [1] "nrow" [1] "is.ColMode" [1] "is.RowMode" [1] "RowMode" [1] "ColMode" [1] "set.buffer.dim" [1] "prefix" [1] "directory" [1] "filenames" [1] "duplicate" [1] "ewApply" [1] "sqrt" [1] "exp" Creating a new generic function for "log" in "BufferedMatrix" [1] "log" [1] "pow" [1] "Max" [1] "Min" Creating a new generic function for "mean" in "BufferedMatrix" [1] "mean" [1] "Sum" [1] "Var" [1] "Sd" [1] "rowMeans" [1] "rowSums" [1] "rowVars" [1] "rowSd" [1] "rowMax" [1] "rowMin" [1] "colMeans" [1] "colSums" [1] "colVars" [1] "colSd" [1] "colMax" [1] "colMin" [1] "colMedians" [1] "colRanges" [1] "colApply" [1] "rowApply" Creating a new generic function for "as.matrix" in "BufferedMatrix" [1] "as.matrix" [1] "subBufferedMatrix" [1] "rownames" [1] "colnames" [1] "colnames<-" [1] "rownames<-" [1] "dimnames" [1] "dimnames<-" [1] "ReadOnlyMode" [1] "is.ReadOnlyMode" [1] "memory.usage" [1] "disk.usage" [1] "AddColumn" ** help >>> Building/Updating help pages for package 'BufferedMatrix' Formats: text html latex example BufferedMatrix-class text html latex as.BufferedMatrix text html latex createBufferedMatrix text html latex example ** building package indices ... * DONE (BufferedMatrix) * creating vignettes ... OK * cleaning src * removing junk files * checking for LF line-endings in source files * checking for empty or unneeded directories * building 'BufferedMatrix_1.0.0.tar.gz'