Package: sequencing Version: 1.30.0 Command: /home/biocbuild/bbs-3.20-bioc/R/bin/R CMD build --keep-empty-dirs --no-resave-data sequencing StartedAt: 2025-01-28 13:09:42 -0500 (Tue, 28 Jan 2025) EndedAt: 2025-01-28 13:10:44 -0500 (Tue, 28 Jan 2025) EllapsedTime: 62.0 seconds RetCode: 0 Status: OK PackageFile: sequencing_1.30.0.tar.gz PackageFileSize: 403.5 KiB