Package: rnaseqDTU Version: 1.26.0 Command: /home/biocbuild/bbs-3.20-bioc/R/bin/R CMD build --keep-empty-dirs --no-resave-data rnaseqDTU StartedAt: 2025-01-28 13:08:03 -0500 (Tue, 28 Jan 2025) EndedAt: 2025-01-28 13:10:07 -0500 (Tue, 28 Jan 2025) EllapsedTime: 124.0 seconds RetCode: 0 Status: OK PackageFile: rnaseqDTU_1.26.0.tar.gz PackageFileSize: 8.745 MiB