Package: timecoursedata Version: 1.16.0 Command: /home/biocbuild/bbs-3.20-bioc/R/bin/R CMD build --keep-empty-dirs --no-resave-data timecoursedata StartedAt: 2025-01-30 11:41:21 -0500 (Thu, 30 Jan 2025) EndedAt: 2025-01-30 11:42:04 -0500 (Thu, 30 Jan 2025) EllapsedTime: 43.2 seconds RetCode: 0 Status: OK PackageFile: timecoursedata_1.16.0.tar.gz PackageFileSize: 44.87 MiB