Package: synapterdata Version: 1.44.0 Command: /home/biocbuild/bbs-3.20-bioc/R/bin/R CMD build --keep-empty-dirs --no-resave-data synapterdata StartedAt: 2025-01-30 11:39:44 -0500 (Thu, 30 Jan 2025) EndedAt: 2025-01-30 11:40:12 -0500 (Thu, 30 Jan 2025) EllapsedTime: 27.5 seconds RetCode: 0 Status: OK PackageFile: synapterdata_1.44.0.tar.gz PackageFileSize: 418.4 MiB