Package: sesameData Version: 1.24.0 Command: /home/biocbuild/bbs-3.20-bioc/R/bin/R CMD build --keep-empty-dirs --no-resave-data sesameData StartedAt: 2025-01-30 11:37:56 -0500 (Thu, 30 Jan 2025) EndedAt: 2025-01-30 11:38:32 -0500 (Thu, 30 Jan 2025) EllapsedTime: 36.2 seconds RetCode: 0 Status: OK PackageFile: sesameData_1.24.0.tar.gz PackageFileSize: 1.882 MiB