Package: prostateCancerStockholm Version: 1.34.0 Command: /home/biocbuild/bbs-3.20-bioc/R/bin/R CMD check --install=check:prostateCancerStockholm.install-out.txt --library=/home/biocbuild/bbs-3.20-bioc/R/site-library --timings prostateCancerStockholm_1.34.0.tar.gz StartedAt: 2025-01-30 12:29:52 -0500 (Thu, 30 Jan 2025) EndedAt: 2025-01-30 12:30:10 -0500 (Thu, 30 Jan 2025) EllapsedTime: 18.3 seconds RetCode: 0 Status: WARNINGS CheckDir: prostateCancerStockholm.Rcheck Warnings: 1