Package: plotgardenerData Version: 1.12.0 Command: /home/biocbuild/bbs-3.20-bioc/R/bin/R CMD build --keep-empty-dirs --no-resave-data plotgardenerData StartedAt: 2025-01-30 11:32:27 -0500 (Thu, 30 Jan 2025) EndedAt: 2025-01-30 11:32:32 -0500 (Thu, 30 Jan 2025) EllapsedTime: 5.0 seconds RetCode: 0 Status: OK PackageFile: plotgardenerData_1.12.0.tar.gz PackageFileSize: 2.388 MiB