Package: msigdb Version: 1.14.0 Command: /home/biocbuild/bbs-3.20-bioc/R/bin/R CMD build --keep-empty-dirs --no-resave-data msigdb StartedAt: 2025-01-30 11:29:31 -0500 (Thu, 30 Jan 2025) EndedAt: 2025-01-30 11:37:09 -0500 (Thu, 30 Jan 2025) EllapsedTime: 457.9 seconds RetCode: 0 Status: OK PackageFile: msigdb_1.14.0.tar.gz PackageFileSize: 304.7 KiB