Package: lungExpression Version: 0.44.0 Command: /home/biocbuild/bbs-3.20-bioc/R/bin/R CMD build --keep-empty-dirs --no-resave-data lungExpression StartedAt: 2025-01-30 11:26:06 -0500 (Thu, 30 Jan 2025) EndedAt: 2025-01-30 11:26:08 -0500 (Thu, 30 Jan 2025) EllapsedTime: 1.6 seconds RetCode: 0 Status: OK PackageFile: lungExpression_0.44.0.tar.gz PackageFileSize: 5.681 MiB