Package: genomationData Version: 1.38.0 Command: /home/biocbuild/bbs-3.20-bioc/R/bin/R CMD INSTALL genomationData StartedAt: 2025-01-30 10:55:54 -0500 (Thu, 30 Jan 2025) EndedAt: 2025-01-30 10:55:56 -0500 (Thu, 30 Jan 2025) EllapsedTime: 2.1 seconds RetCode: 0 Status: OK