Package: genomationData Version: 1.38.0 Command: /home/biocbuild/bbs-3.20-bioc/R/bin/R CMD build --keep-empty-dirs --no-resave-data genomationData StartedAt: 2025-01-30 11:18:38 -0500 (Thu, 30 Jan 2025) EndedAt: 2025-01-30 11:18:48 -0500 (Thu, 30 Jan 2025) EllapsedTime: 10.0 seconds RetCode: 0 Status: OK PackageFile: genomationData_1.38.0.tar.gz PackageFileSize: 66.49 MiB