Package: affycompData Version: 1.44.0 Command: /home/biocbuild/bbs-3.20-bioc/R/bin/R CMD build --keep-empty-dirs --no-resave-data affycompData StartedAt: 2025-01-30 11:06:28 -0500 (Thu, 30 Jan 2025) EndedAt: 2025-01-30 11:06:35 -0500 (Thu, 30 Jan 2025) EllapsedTime: 6.2 seconds RetCode: 0 Status: OK PackageFile: affycompData_1.44.0.tar.gz PackageFileSize: 68.61 MiB