Package: TENxBUSData Version: 1.20.0 Command: /home/biocbuild/bbs-3.20-bioc/R/bin/R CMD build --keep-empty-dirs --no-resave-data TENxBUSData StartedAt: 2025-01-30 11:41:08 -0500 (Thu, 30 Jan 2025) EndedAt: 2025-01-30 11:41:38 -0500 (Thu, 30 Jan 2025) EllapsedTime: 29.6 seconds RetCode: 0 Status: OK PackageFile: TENxBUSData_1.20.0.tar.gz PackageFileSize: 221.3 KiB