Package: TCGAcrcmRNA Version: 1.26.0 Command: /home/biocbuild/bbs-3.20-bioc/R/bin/R CMD build --keep-empty-dirs --no-resave-data TCGAcrcmRNA StartedAt: 2025-01-30 11:40:58 -0500 (Thu, 30 Jan 2025) EndedAt: 2025-01-30 11:41:08 -0500 (Thu, 30 Jan 2025) EllapsedTime: 10.1 seconds RetCode: 0 Status: OK PackageFile: TCGAcrcmRNA_1.26.0.tar.gz PackageFileSize: 35.3 MiB