Package: MMDiffBamSubset Version: 1.42.0 Command: /home/biocbuild/bbs-3.20-bioc/R/bin/R CMD INSTALL MMDiffBamSubset StartedAt: 2025-01-30 10:55:24 -0500 (Thu, 30 Jan 2025) EndedAt: 2025-01-30 10:55:27 -0500 (Thu, 30 Jan 2025) EllapsedTime: 3.3 seconds RetCode: 0 Status: OK