Package: LungCancerLines Version: 0.44.0 Command: /home/biocbuild/bbs-3.20-bioc/R/bin/R CMD INSTALL LungCancerLines StartedAt: 2025-01-30 11:01:48 -0500 (Thu, 30 Jan 2025) EndedAt: 2025-01-30 11:02:01 -0500 (Thu, 30 Jan 2025) EllapsedTime: 12.2 seconds RetCode: 0 Status: OK