Package: JohnsonKinaseData Version: 1.2.0 Command: /home/biocbuild/bbs-3.20-bioc/R/bin/R CMD build --keep-empty-dirs --no-resave-data JohnsonKinaseData StartedAt: 2025-01-30 11:24:27 -0500 (Thu, 30 Jan 2025) EndedAt: 2025-01-30 11:25:22 -0500 (Thu, 30 Jan 2025) EllapsedTime: 55.0 seconds RetCode: 0 Status: OK PackageFile: JohnsonKinaseData_1.2.0.tar.gz PackageFileSize: 315.1 KiB