Package: HMP16SData Version: 1.26.0 Command: /home/biocbuild/bbs-3.20-bioc/R/bin/R CMD build --keep-empty-dirs --no-resave-data HMP16SData StartedAt: 2025-01-30 11:23:34 -0500 (Thu, 30 Jan 2025) EndedAt: 2025-01-30 11:26:03 -0500 (Thu, 30 Jan 2025) EllapsedTime: 149.3 seconds RetCode: 0 Status: OK PackageFile: HMP16SData_1.26.0.tar.gz PackageFileSize: 16.34 MiB